Workbook

Sheet 7年8月
A2: 広島県の人口・世帯数・人口増減の推移（前年・前月との比較）
AB4: （単位：人、世帯、％）
A5: 年 月 | B5: 人口・世帯数（各年10月１日現在、各月１日現在） | R5: 人 口 増 減 （ 前１か月（年）間 ）
C6: 総数 | L6: 世 帯 数 | O6: 人口増減 | X6: 社会増減 | AG6: 自然増減
F7: 男 | I7: 女 | R7: 転 入 | U7: 転 出 | AA7: 出 生 | AD7: 死 亡
A8: 令和元年 | C8: 2811857 | F8: 1362831 | I8: 1449026 | L8: 1238493 | O8: -11007 | R8: 129621 | T8: 8498 | U8: 130791 | X8: -202 | AA8: 20677 | AD8: 31482 | AG8: -10805
A9: ２ | C9: 2799702 | F9: 1357156 | I9: 1442546 | L9: 1243527 | O9: -12155 | R9: 119072 | T9: 8498 | U9: 121688 | X9: -1646 | AA9: 20021 | AD9: 30530 | AG9: -10509
A10: ３ | C10: 2779314 | F10: 1347133 | I10: 1432181 | L10: 1245044 | O10: -20388 | R10: 112198 | T10: 8498 | U10: 120068 | X10: -7870 | AA10: 19210 | AC10: 31728 | AD10: 31728 | AG10: -12518
A11: ４ | C11: 2759702 | F11: 1337755 | I11: 1421947 | L11: 1249093 | O11: -19612 | R11: 118360 | U11: 122294 | X11: -3934 | AA11: 18277 | AD11: 33955 | AG11: -15678
A12: ５ | C12: 2739446 | F12: 1328642 | I12: 1410804 | L12: 1253831 | O12: -20256 | R12: 122043 | U12: 123827 | X12: -1784 | AA12: 17427 | AD12: 35899 | AG12: -18472
B13: ( | C13: 57992 | D13: ) | E13: ( | F13: 30060 | G13: ) | H13: ( | I13: 27932 | J13: ) | K13: ( | L13: － | M13: ) | N13: ( | O13: 5514 | P13: ) | Q13: ( | R13: 26081 | S13: ) | T13: ( | U13: 20630 | V13: ) | W13: ( | X13: 5451 | Y13: ) | Z13: ( | AA13: 253 | AB13: ) | AC13: ( | AD13: 190 | AE13: ) | AF13: ( | AG13: 63 | AH13: )
A14: 令和６年 | C14: 2716733 | F14: 1318481 | I14: 1398252 | L14: 1258514 | O14: -22713 | R14: 119468 | U14: 122185 | X14: -2717 | AA14: 16290 | AD14: 36286 | AG14: -19996
B15: ( | C15: 62823 | D15: ) | E15: ( | F15: 32979 | G15: ) | H15: ( | I15: 29844 | J15: ) | K15: ( | L15: － | M15: ) | N15: ( | O15: 4831 | P15: ) | Q15: ( | R15: 25291 | S15: ) | T15: ( | U15: 20581 | V15: ) | W15: ( | X15: 4710 | Y15: ) | Z15: ( | AA15: 305 | AB15: ) | AC15: ( | AD15: 184 | AE15: ) | AF15: ( | AG15: 121 | AH15: )
A16: 令和６年９月 | C16: 2717604 | F16: 1318773 | I16: 1398831 | L16: － | O16: -2072 | R16: 7870 | U16: 8322 | X16: -452 | AA16: 1362 | AD16: 2982 | AG16: -1620
B17: ( | C17: 61823 | D17: ) | E17: ( | F17: 32389 | G17: ) | H17: ( | I17: 29434 | J17: ) | K17: ( | L17: － | M17: ) | N17: ( | O17: 10 | P17: ) | Q17: ( | R17: 1622 | S17: ) | T17: ( | U17: 1622 | V17: ) | W17: ( | X17: 0 | Y17: ) | Z17: ( | AA17: 24 | AB17: ) | AC17: ( | AD17: 14 | AE17: ) | AF17: ( | AG17: 10 | AH17: )
A18: 10 | C18: 2716733 | F18: 1318481 | I18: 1398252 | L18: 1258514 | O18: -871 | R18: 8748 | U18: 8172 | X18: 576 | AA18: 1372 | AD18: 2819 | AG18: -1447
A19: 11 | C19: 2716482 | F19: 1318332 | I19: 1398150 | L19: － | O19: -251 | R19: 8978 | U19: 7861 | X19: 1117 | AA19: 1442 | AD19: 2810 | AG19: -1368
A20: 12 | C20: 2715111 | F20: 1317612 | I20: 1397499 | L20: － | O20: -1371 | R20: 7227 | U20: 7011 | X20: 216 | AA20: 1260 | AD20: 2847 | AG20: -1587
A21: 令和７年１月 | C21: 2713340 | F21: 1316789 | I21: 1396551 | L21: － | O21: -1771 | R21: 7512 | U21: 7621 | X21: -109 | AA21: 1304 | AD21: 2966 | AG21: -1662
A22: ２ | C22: 2709938 | F22: 1315207 | I22: 1394731 | L22: － | O22: -3402 | R22: 7568 | U22: 7622 | X22: -54 | AA22: 1303 | AD22: 4651 | AG22: -3348
A23: ３ | C23: 2707782 | F23: 1314255 | I23: 1393527 | L23: － | O23: -2156 | R23: 8595 | U23: 8441 | X23: 154 | AA23: 1175 | AD23: 3485 | AG23: -2310
A24: ４ | C24: 2701097 | F24: 1310928 | I24: 1390169 | L24: － | O24: -6685 | R24: 20855 | U24: 25444 | X24: -4589 | AA24: 1166 | AD24: 3262 | AG24: -2096
A25: ５ | C25: 2701212 | F25: 1311293 | I25: 1389919 | L25: － | O25: 115 | R25: 16521 | U25: 14631 | X25: 1890 | AA25: 1274 | AD25: 3049 | AG25: -1775
A26: ６ | C26: 2699796 | F26: 1310675 | I26: 1389121 | L26: － | O26: -1416 | R26: 8671 | U26: 8667 | X26: 4 | AA26: 1279 | AD26: 2699 | AG26: -1420
A27: ７ | C27: 2698428 | F27: 1310151 | I27: 1388277 | L27: － | O27: -1368 | R27: 8280 | U27: 8244 | X27: 36 | AA27: 1291 | AD27: 2695 | AG27: -1404
A28: ８ | C28: 2697275 | F28: 1309736 | I28: 1387539 | L28: － | O28: -1153 | R28: 8885 | U28: 8635 | X28: 250 | AA28: 1364 | AD28: 2767 | AG28: -1403
B29: ( | C29: 67142 | D29: ) | E29: ( | F29: 35641 | G29: ) | H29: ( | I29: 31501 | J29: ) | K29: ( | L29: － | M29: ) | N29: ( | O29: 352 | P29: ) | Q29: ( | R29: 1998 | S29: ) | T29: ( | U29: 1651 | V29: ) | W29: ( | X29: 347 | Y29: ) | Z29: ( | AA29: 23 | AB29: ) | AC29: ( | AD29: 18 | AE29: ) | AF29: ( | AG29: 5 | AH29: )
A30: ９ | C30: 2695633 | F30: 1309027 | I30: 1386606 | L30: － | O30: -1642 | R30: 7707 | U30: 8271 | X30: -564 | AA30: 1357 | AD30: 2435 | AG30: -1078
B31: ( | C31: 67186 | D31: ) | E31: ( | F31: 35766 | G31: ) | H31: ( | I31: 31420 | J31: ) | K31: ( | L31: － | M31: ) | N31: ( | O31: 44 | P31: ) | Q31: ( | R31: 1770 | S31: ) | T31: ( | U31: 1743 | V31: ) | W31: ( | X31: 27 | Y31: ) | Z31: ( | AA31: 25 | AB31: ) | AC31: ( | AD31: 8 | AE31: ) | AF31: ( | AG31: 17 | AH31: )
A32: 前月比 | C32: -0.060876255 | F32: -0.054133047 | I32: -0.067241353 | L32: － | O32: － | R32: -13.258301 | U32: -4.2154024 | X32: － | AA32: -0.51319648 | AD32: -11.998554 | AG32: －
A33: 前年同月比 | C33: -0.81 | F33: -0.74 | I33: -0.87 | L33: － | O33: － | R33: -2.1 | U33: -0.6 | X33: － | AA33: -0.4 | AD33: -18.3 | AG33: －
A34: 注１） 人口・世帯数は、年別については10月１日現在、月別については当月１日現在の数値。令和２年は国勢調査結果の数値。
A35: なお、世帯数については、平成30年４月１日現在分より、年１回（10月１日現在）のみ調査。
A36: ２） 人口増減の集計期間は、年別については前年10月１日～当年９月30日、月別については前月１日～末日。
A37: ３） 令和元年及び令和２年の推計人口は、令和２年国勢調査結果に基づき補正を行っており、社会増減は人口増減に合わせて修正している。
A38: このため、転入から転出を引いた差と社会増減は必ずしも一致しない。
A39: ４） （ ）内は外国人で内数。

Sheet 7年9月
A2: 広島県の人口・世帯数・人口増減の推移（前年・前月との比較）
AB4: （単位：人、世帯、％）
A5: 年 月 | B5: 人口・世帯数（各年10月１日現在、各月１日現在） | R5: 人 口 増 減 （ 前１か月（年）間 ）
C6: 総数 | L6: 世 帯 数 | O6: 人口増減 | X6: 社会増減 | AG6: 自然増減
F7: 男 | I7: 女 | R7: 転 入 | U7: 転 出 | AA7: 出 生 | AD7: 死 亡
A8: 令和２年 | C8: 2799702 | F8: 1357156 | I8: 1442546 | L8: 1243527 | O8: -12155 | R8: 119072 | T8: 8498 | U8: 121688 | X8: -1646 | AA8: 20021 | AD8: 30530 | AG8: -10509
A9: ３ | C9: 2779314 | F9: 1347133 | I9: 1432181 | L9: 1245044 | O9: -20388 | R9: 112198 | T9: 8498 | U9: 120068 | X9: -7870 | AA9: 19210 | AC9: 31728 | AD9: 31728 | AG9: -12518
A10: ４ | C10: 2759702 | F10: 1337755 | I10: 1421947 | L10: 1249093 | O10: -19612 | R10: 118360 | U10: 122294 | X10: -3934 | AA10: 18277 | AD10: 33955 | AG10: -15678
A11: ５ | C11: 2739446 | F11: 1328642 | I11: 1410804 | L11: 1253831 | O11: -20256 | R11: 122043 | U11: 123827 | X11: -1784 | AA11: 17427 | AD11: 35899 | AG11: -18472
A12: ６ | C12: 2716733 | F12: 1318481 | I12: 1398252 | L12: 1258514 | O12: -22713 | R12: 119468 | U12: 122185 | X12: -2717 | AA12: 16290 | AD12: 36286 | AG12: -19996
B13: ( | C13: 62823 | D13: ) | E13: ( | F13: 32979 | G13: ) | H13: ( | I13: 29844 | J13: ) | K13: ( | L13: － | M13: ) | N13: ( | O13: 4831 | P13: ) | Q13: ( | R13: 25291 | S13: ) | T13: ( | U13: 20581 | V13: ) | W13: ( | X13: 4710 | Y13: ) | Z13: ( | AA13: 305 | AB13: ) | AC13: ( | AD13: 184 | AE13: ) | AF13: ( | AG13: 121 | AH13: )
A14: 令和７年 | C14: 2694648 | F14: 1308573 | I14: 1386075 | L14: 1262295 | O14: -22085 | R14: 119330 | U14: 120496 | X14: -1166 | AA14: 15603 | AD14: 36522 | AG14: -20919
B15: ( | C15: 68087 | D15: ) | E15: ( | F15: 36304 | G15: ) | H15: ( | I15: 31783 | J15: ) | K15: ( | L15: － | M15: ) | N15: ( | O15: 5264 | P15: ) | Q15: ( | R15: 26952 | S15: ) | T15: ( | U15: 21789 | V15: ) | W15: ( | X15: 5163 | Y15: ) | Z15: ( | AA15: 297 | AB15: ) | AC15: ( | AD15: 196 | AE15: ) | AF15: ( | AG15: 101 | AH15: )
A16: 令和６年10月 | C16: 2716733 | F16: 1318481 | I16: 1398252 | L16: 1258514 | O16: -871 | R16: 8748 | U16: 8172 | X16: 576 | AA16: 1372 | AD16: 2819 | AG16: -1447
B17: ( | C17: 62823 | D17: ) | E17: ( | F17: 32979 | G17: ) | H17: ( | I17: 29844 | J17: ) | K17: ( | L17: － | M17: ) | N17: ( | O17: 1000 | P17: ) | Q17: ( | R17: 2562 | S17: ) | T17: ( | U17: 1578 | V17: ) | W17: ( | X17: 984 | Y17: ) | Z17: ( | AA17: 27 | AB17: ) | AC17: ( | AD17: 11 | AE17: ) | AF17: ( | AG17: 16 | AH17: )
A18: 11 | C18: 2716482 | F18: 1318332 | I18: 1398150 | L18: － | O18: -251 | R18: 8978 | U18: 7861 | X18: 1117 | AA18: 1442 | AD18: 2810 | AG18: -1368
A19: 12 | C19: 2715111 | F19: 1317612 | I19: 1397499 | L19: － | O19: -1371 | R19: 7227 | U19: 7011 | X19: 216 | AA19: 1260 | AD19: 2847 | AG19: -1587
A20: 令和７年１月 | C20: 2713340 | F20: 1316789 | I20: 1396551 | L20: － | O20: -1771 | R20: 7512 | U20: 7621 | X20: -109 | AA20: 1304 | AD20: 2966 | AG20: -1662
A21: ２ | C21: 2709938 | F21: 1315207 | I21: 1394731 | L21: － | O21: -3402 | R21: 7568 | U21: 7622 | X21: -54 | AA21: 1303 | AD21: 4651 | AG21: -3348
A22: ３ | C22: 2707782 | F22: 1314255 | I22: 1393527 | L22: － | O22: -2156 | R22: 8595 | U22: 8441 | X22: 154 | AA22: 1175 | AD22: 3485 | AG22: -2310
A23: ４ | C23: 2701097 | F23: 1310928 | I23: 1390169 | L23: － | O23: -6685 | R23: 20855 | U23: 25444 | X23: -4589 | AA23: 1166 | AD23: 3262 | AG23: -2096
A24: ５ | C24: 2701212 | F24: 1311293 | I24: 1389919 | L24: － | O24: 115 | R24: 16521 | U24: 14631 | X24: 1890 | AA24: 1274 | AD24: 3049 | AG24: -1775
A25: ６ | C25: 2699796 | F25: 1310675 | I25: 1389121 | L25: － | O25: -1416 | R25: 8671 | U25: 8667 | X25: 4 | AA25: 1279 | AD25: 2699 | AG25: -1420
A26: ７ | C26: 2698428 | F26: 1310151 | I26: 1388277 | L26: － | O26: -1368 | R26: 8280 | U26: 8244 | X26: 36 | AA26: 1291 | AD26: 2695 | AG26: -1404
A27: ８ | C27: 2697275 | F27: 1309736 | I27: 1387539 | L27: － | O27: -1153 | R27: 8885 | U27: 8635 | X27: 250 | AA27: 1364 | AD27: 2767 | AG27: -1403
A28: ９ | C28: 2695633 | F28: 1309027 | I28: 1386606 | L28: － | O28: -1642 | R28: 7707 | U28: 8271 | X28: -564 | AA28: 1357 | AD28: 2435 | AG28: -1078
B29: ( | C29: 67186 | D29: ) | E29: ( | F29: 35766 | G29: ) | H29: ( | I29: 31420 | J29: ) | K29: ( | L29: － | M29: ) | N29: ( | O29: 44 | P29: ) | Q29: ( | R29: 1770 | S29: ) | T29: ( | U29: 1743 | V29: ) | W29: ( | X29: 27 | Y29: ) | Z29: ( | AA29: 25 | AB29: ) | AC29: ( | AD29: 8 | AE29: ) | AF29: ( | AG29: 17 | AH29: )
A30: 10 | C30: 2694648 | F30: 1308573 | I30: 1386075 | L30: 1262295 | O30: -985 | R30: 8531 | U30: 8048 | X30: 483 | AA30: 1388 | AD30: 2856 | AG30: -1468
B31: ( | C31: 68087 | D31: ) | E31: ( | F31: 36304 | G31: ) | H31: ( | I31: 31783 | J31: ) | K31: ( | L31: － | M31: ) | N31: ( | O31: 901 | P31: ) | Q31: ( | R31: 2678 | S31: ) | T31: ( | U31: 1783 | V31: ) | W31: ( | X31: 895 | Y31: ) | Z31: ( | AA31: 22 | AB31: ) | AC31: ( | AD31: 16 | AE31: ) | AF31: ( | AG31: 6 | AH31: )
A32: 前月比 | C32: -0.036540582 | F32: -0.034682249 | I32: -0.038294945 | L32: － | O32: － | R32: 10.691579 | U32: -2.6961673 | X32: － | AA32: 2.284451 | AD32: 17.289528 | AG32: －
A33: 前年同月比 | C33: -0.81 | F33: -0.75 | I33: -0.87 | L33: － | O33: － | R33: -2.5 | U33: -1.5 | X33: － | AA33: 1.2 | AD33: 1.3 | AG33: －
A34: 注１） 人口・世帯数は、年別については10月１日現在、月別については当月１日現在の数値。令和２年は国勢調査結果の数値。
A35: なお、世帯数については、平成30年４月１日現在分より、年１回（10月１日現在）のみ調査。
A36: ２） 人口増減の集計期間は、年別については前年10月１日～当年９月30日、月別については前月１日～末日。
A37: ３） 令和元年及び令和２年の推計人口は、令和２年国勢調査結果に基づき補正を行っており、社会増減は人口増減に合わせて修正している。
A38: このため、転入から転出を引いた差と社会増減は必ずしも一致しない。
A39: ４） （ ）内は外国人で内数。

Sheet 7年10月
A2: 広島県の人口・世帯数・人口増減の推移（前年・前月との比較）
AB4: （単位：人、世帯、％）
A5: 年 月 | B5: 人口・世帯数（各年10月１日現在、各月１日現在） | R5: 人 口 増 減 （ 前１か月（年）間 ）
C6: 総数 | L6: 世 帯 数 | O6: 人口増減 | X6: 社会増減 | AG6: 自然増減
F7: 男 | I7: 女 | R7: 転 入 | U7: 転 出 | AA7: 出 生 | AD7: 死 亡
A8: 令和２年 | C8: 2799702 | F8: 1357156 | I8: 1442546 | L8: 1243527 | O8: -12155 | R8: 119072 | T8: 8498 | U8: 121688 | X8: -1646 | AA8: 20021 | AD8: 30530 | AG8: -10509
A9: ３ | C9: 2779314 | F9: 1347133 | I9: 1432181 | L9: 1245044 | O9: -20388 | R9: 112198 | T9: 8498 | U9: 120068 | X9: -7870 | AA9: 19210 | AC9: 31728 | AD9: 31728 | AG9: -12518
A10: ４ | C10: 2759702 | F10: 1337755 | I10: 1421947 | L10: 1249093 | O10: -19612 | R10: 118360 | U10: 122294 | X10: -3934 | AA10: 18277 | AD10: 33955 | AG10: -15678
A11: ５ | C11: 2739446 | F11: 1328642 | I11: 1410804 | L11: 1253831 | O11: -20256 | R11: 122043 | U11: 123827 | X11: -1784 | AA11: 17427 | AD11: 35899 | AG11: -18472
A12: ６ | C12: 2716733 | F12: 1318481 | I12: 1398252 | L12: 1258514 | O12: -22713 | R12: 119468 | U12: 122185 | X12: -2717 | AA12: 16290 | AD12: 36286 | AG12: -19996
B13: ( | C13: 62823 | D13: ) | E13: ( | F13: 32979 | G13: ) | H13: ( | I13: 29844 | J13: ) | K13: ( | L13: － | M13: ) | N13: ( | O13: 4831 | P13: ) | Q13: ( | R13: 25291 | S13: ) | T13: ( | U13: 20581 | V13: ) | W13: ( | X13: 4710 | Y13: ) | Z13: ( | AA13: 305 | AB13: ) | AC13: ( | AD13: 184 | AE13: ) | AF13: ( | AG13: 121 | AH13: )
A14: 令和７年 | C14: 2694648 | F14: 1308573 | I14: 1386075 | L14: 1262295 | O14: -22085 | R14: 119330 | U14: 120496 | X14: -1166 | AA14: 15603 | AD14: 36522 | AG14: -20919
B15: ( | C15: 68087 | D15: ) | E15: ( | F15: 36304 | G15: ) | H15: ( | I15: 31783 | J15: ) | K15: ( | L15: － | M15: ) | N15: ( | O15: 5264 | P15: ) | Q15: ( | R15: 26952 | S15: ) | T15: ( | U15: 21789 | V15: ) | W15: ( | X15: 5163 | Y15: ) | Z15: ( | AA15: 297 | AB15: ) | AC15: ( | AD15: 196 | AE15: ) | AF15: ( | AG15: 101 | AH15: )
A16: 令和６年11月 | C16: 2716482 | F16: 1318332 | I16: 1398150 | L16: － | O16: -251 | R16: 8978 | U16: 7861 | X16: 1117 | AA16: 1442 | AD16: 2810 | AG16: -1368
B17: ( | C17: 64226 | D17: ) | E17: ( | F17: 33676 | G17: ) | H17: ( | I17: 30550 | J17: ) | K17: ( | L17: － | M17: ) | N17: ( | O17: 1403 | P17: ) | Q17: ( | R17: 2840 | S17: ) | T17: ( | U17: 1464 | V17: ) | W17: ( | X17: 1376 | Y17: ) | Z17: ( | AA17: 42 | AB17: ) | AC17: ( | AD17: 15 | AE17: ) | AF17: ( | AG17: 27 | AH17: )
A18: 12 | C18: 2715111 | F18: 1317612 | I18: 1397499 | L18: － | O18: -1371 | R18: 7227 | U18: 7011 | X18: 216 | AA18: 1260 | AD18: 2847 | AG18: -1587
A19: 令和７年１月 | C19: 2713340 | F19: 1316789 | I19: 1396551 | L19: － | O19: -1771 | R19: 7512 | U19: 7621 | X19: -109 | AA19: 1304 | AD19: 2966 | AG19: -1662
A20: ２ | C20: 2709938 | F20: 1315207 | I20: 1394731 | L20: － | O20: -3402 | R20: 7568 | U20: 7622 | X20: -54 | AA20: 1303 | AD20: 4651 | AG20: -3348
A21: ３ | C21: 2707782 | F21: 1314255 | I21: 1393527 | L21: － | O21: -2156 | R21: 8595 | U21: 8441 | X21: 154 | AA21: 1175 | AD21: 3485 | AG21: -2310
A22: ４ | C22: 2701097 | F22: 1310928 | I22: 1390169 | L22: － | O22: -6685 | R22: 20855 | U22: 25444 | X22: -4589 | AA22: 1166 | AD22: 3262 | AG22: -2096
A23: ５ | C23: 2701212 | F23: 1311293 | I23: 1389919 | L23: － | O23: 115 | R23: 16521 | U23: 14631 | X23: 1890 | AA23: 1274 | AD23: 3049 | AG23: -1775
A24: ６ | C24: 2699796 | F24: 1310675 | I24: 1389121 | L24: － | O24: -1416 | R24: 8671 | U24: 8667 | X24: 4 | AA24: 1279 | AD24: 2699 | AG24: -1420
A25: ７ | C25: 2698428 | F25: 1310151 | I25: 1388277 | L25: － | O25: -1368 | R25: 8280 | U25: 8244 | X25: 36 | AA25: 1291 | AD25: 2695 | AG25: -1404
A26: ８ | C26: 2697275 | F26: 1309736 | I26: 1387539 | L26: － | O26: -1153 | R26: 8885 | U26: 8635 | X26: 250 | AA26: 1364 | AD26: 2767 | AG26: -1403
A27: ９ | C27: 2695633 | F27: 1309027 | I27: 1386606 | L27: － | O27: -1642 | R27: 7707 | U27: 8271 | X27: -564 | AA27: 1357 | AD27: 2435 | AG27: -1078
A28: 10 | C28: 2694648 | F28: 1308573 | I28: 1386075 | L28: 1262295 | O28: -985 | R28: 8531 | U28: 8048 | X28: 483 | AA28: 1388 | AD28: 2856 | AG28: -1468
B29: ( | C29: 68087 | D29: ) | E29: ( | F29: 36304 | G29: ) | H29: ( | I29: 31783 | J29: ) | K29: ( | L29: － | M29: ) | N29: ( | O29: 901 | P29: ) | Q29: ( | R29: 2678 | S29: ) | T29: ( | U29: 1783 | V29: ) | W29: ( | X29: 895 | Y29: ) | Z29: ( | AA29: 22 | AB29: ) | AC29: ( | AD29: 16 | AE29: ) | AF29: ( | AG29: 6 | AH29: )
A30: 11 | C30: 2694383 | F30: 1308639 | I30: 1385744 | L30: － | O30: -265 | R30: 9183 | U30: 8037 | X30: 1146 | AA30: 1398 | AD30: 2809 | AG30: -1411
B31: ( | C31: 69466 | D31: ) | E31: ( | F31: 37168 | G31: ) | H31: ( | I31: 32298 | J31: ) | K31: ( | L31: － | M31: ) | N31: ( | O31: 1379 | P31: ) | Q31: ( | R31: 3180 | S31: ) | T31: ( | U31: 1821 | V31: ) | W31: ( | X31: 1359 | Y31: ) | Z31: ( | AA31: 32 | AB31: ) | AC31: ( | AD31: 12 | AE31: ) | AF31: ( | AG31: 20 | AH31: )
A32: 前月比 | C32: -0.0098343086 | F32: 0.0050436621 | I32: -0.023880382 | L32: － | O32: － | R32: 7.6427148 | U32: -0.13667992 | X32: － | AA32: 0.7204611 | AD32: -1.6456583 | AG32: －
A33: 前年同月比 | C33: -0.81 | F33: -0.74 | I33: -0.89 | L33: － | O33: － | R33: 2.3 | U33: 2.2 | X33: － | AA33: -3.1 | AD33: 0 | AG33: －
A34: 注１） 人口・世帯数は、年別については10月１日現在、月別については当月１日現在の数値。令和２年は国勢調査結果の数値。
A35: なお、世帯数については、平成30年４月１日現在分より、年１回（10月１日現在）のみ調査。
A36: ２） 人口増減の集計期間は、年別については前年10月１日～当年９月30日、月別については前月１日～末日。
A37: ３） 令和元年及び令和２年の推計人口は、令和２年国勢調査結果に基づき補正を行っており、社会増減は人口増減に合わせて修正している。
A38: このため、転入から転出を引いた差と社会増減は必ずしも一致しない。
A39: ４） （ ）内は外国人で内数。

Sheet 7年11月
A2: 広島県の人口・世帯数・人口増減の推移（前年・前月との比較）
AB4: （単位：人、世帯、％）
A5: 年 月 | B5: 人口・世帯数（各年10月１日現在、各月１日現在） | R5: 人 口 増 減 （ 前１か月（年）間 ）
C6: 総数 | L6: 世 帯 数 | O6: 人口増減 | X6: 社会増減 | AG6: 自然増減
F7: 男 | I7: 女 | R7: 転 入 | U7: 転 出 | AA7: 出 生 | AD7: 死 亡
A8: 令和２年 | C8: 2799702 | F8: 1357156 | I8: 1442546 | L8: 1243527 | O8: -12155 | R8: 119072 | T8: 8498 | U8: 121688 | X8: -1646 | AA8: 20021 | AD8: 30530 | AG8: -10509
A9: ３ | C9: 2779314 | F9: 1347133 | I9: 1432181 | L9: 1245044 | O9: -20388 | R9: 112198 | T9: 8498 | U9: 120068 | X9: -7870 | AA9: 19210 | AC9: 31728 | AD9: 31728 | AG9: -12518
A10: ４ | C10: 2759702 | F10: 1337755 | I10: 1421947 | L10: 1249093 | O10: -19612 | R10: 118360 | U10: 122294 | X10: -3934 | AA10: 18277 | AD10: 33955 | AG10: -15678
A11: ５ | C11: 2739446 | F11: 1328642 | I11: 1410804 | L11: 1253831 | O11: -20256 | R11: 122043 | U11: 123827 | X11: -1784 | AA11: 17427 | AD11: 35899 | AG11: -18472
A12: ６ | C12: 2716733 | F12: 1318481 | I12: 1398252 | L12: 1258514 | O12: -22713 | R12: 119468 | U12: 122185 | X12: -2717 | AA12: 16290 | AD12: 36286 | AG12: -19996
B13: ( | C13: 62823 | D13: ) | E13: ( | F13: 32979 | G13: ) | H13: ( | I13: 29844 | J13: ) | K13: ( | L13: － | M13: ) | N13: ( | O13: 4831 | P13: ) | Q13: ( | R13: 25291 | S13: ) | T13: ( | U13: 20581 | V13: ) | W13: ( | X13: 4710 | Y13: ) | Z13: ( | AA13: 305 | AB13: ) | AC13: ( | AD13: 184 | AE13: ) | AF13: ( | AG13: 121 | AH13: )
A14: 令和７年 | C14: 2694648 | F14: 1308573 | I14: 1386075 | L14: 1262295 | O14: -22085 | R14: 119330 | U14: 120496 | X14: -1166 | AA14: 15603 | AD14: 36522 | AG14: -20919
B15: ( | C15: 68087 | D15: ) | E15: ( | F15: 36304 | G15: ) | H15: ( | I15: 31783 | J15: ) | K15: ( | L15: － | M15: ) | N15: ( | O15: 5264 | P15: ) | Q15: ( | R15: 26952 | S15: ) | T15: ( | U15: 21789 | V15: ) | W15: ( | X15: 5163 | Y15: ) | Z15: ( | AA15: 297 | AB15: ) | AC15: ( | AD15: 196 | AE15: ) | AF15: ( | AG15: 101 | AH15: )
A16: 令和６年12月 | C16: 2715111 | F16: 1317612 | I16: 1397499 | L16: － | O16: -1371 | R16: 7227 | U16: 7011 | X16: 216 | AA16: 1260 | AD16: 2847 | AG16: -1587
B17: ( | C17: 64758 | D17: ) | E17: ( | F17: 34025 | G17: ) | H17: ( | I17: 30733 | J17: ) | K17: ( | L17: － | M17: ) | N17: ( | O17: 532 | P17: ) | Q17: ( | R17: 1915 | S17: ) | T17: ( | U17: 1386 | V17: ) | W17: ( | X17: 529 | Y17: ) | Z17: ( | AA17: 18 | AB17: ) | AC17: ( | AD17: 15 | AE17: ) | AF17: ( | AG17: 3 | AH17: )
A18: 令和７年１月 | C18: 2713340 | F18: 1316789 | I18: 1396551 | L18: － | O18: -1771 | R18: 7512 | U18: 7621 | X18: -109 | AA18: 1304 | AD18: 2966 | AG18: -1662
A19: ２ | C19: 2709938 | F19: 1315207 | I19: 1394731 | L19: － | O19: -3402 | R19: 7568 | U19: 7622 | X19: -54 | AA19: 1303 | AD19: 4651 | AG19: -3348
A20: ３ | C20: 2707782 | F20: 1314255 | I20: 1393527 | L20: － | O20: -2156 | R20: 8595 | U20: 8441 | X20: 154 | AA20: 1175 | AD20: 3485 | AG20: -2310
A21: ４ | C21: 2701097 | F21: 1310928 | I21: 1390169 | L21: － | O21: -6685 | R21: 20855 | U21: 25444 | X21: -4589 | AA21: 1166 | AD21: 3262 | AG21: -2096
A22: ５ | C22: 2701212 | F22: 1311293 | I22: 1389919 | L22: － | O22: 115 | R22: 16521 | U22: 14631 | X22: 1890 | AA22: 1274 | AD22: 3049 | AG22: -1775
A23: ６ | C23: 2699796 | F23: 1310675 | I23: 1389121 | L23: － | O23: -1416 | R23: 8671 | U23: 8667 | X23: 4 | AA23: 1279 | AD23: 2699 | AG23: -1420
A24: ７ | C24: 2698428 | F24: 1310151 | I24: 1388277 | L24: － | O24: -1368 | R24: 8280 | U24: 8244 | X24: 36 | AA24: 1291 | AD24: 2695 | AG24: -1404
A25: ８ | C25: 2697275 | F25: 1309736 | I25: 1387539 | L25: － | O25: -1153 | R25: 8885 | U25: 8635 | X25: 250 | AA25: 1364 | AD25: 2767 | AG25: -1403
A26: ９ | C26: 2695633 | F26: 1309027 | I26: 1386606 | L26: － | O26: -1642 | R26: 7707 | U26: 8271 | X26: -564 | AA26: 1357 | AD26: 2435 | AG26: -1078
A27: 10 | C27: 2694648 | F27: 1308573 | I27: 1386075 | L27: 1262295 | O27: -985 | R27: 8531 | U27: 8048 | X27: 483 | AA27: 1388 | AD27: 2856 | AG27: -1468
A28: 11 | C28: 2694383 | F28: 1308639 | I28: 1385744 | L28: － | O28: -265 | R28: 9183 | U28: 8037 | X28: 1146 | AA28: 1398 | AD28: 2809 | AG28: -1411
B29: ( | C29: 69466 | D29: ) | E29: ( | F29: 37168 | G29: ) | H29: ( | I29: 32298 | J29: ) | K29: ( | L29: － | M29: ) | N29: ( | O29: 1379 | P29: ) | Q29: ( | R29: 3180 | S29: ) | T29: ( | U29: 1821 | V29: ) | W29: ( | X29: 1359 | Y29: ) | Z29: ( | AA29: 32 | AB29: ) | AC29: ( | AD29: 12 | AE29: ) | AF29: ( | AG29: 20 | AH29: )
A30: 12 | C30: 2692560 | F30: 1307715 | I30: 1384845 | L30: － | O30: -1823 | R30: 6512 | U30: 6744 | X30: -232 | AA30: 1193 | AD30: 2784 | AG30: -1591
B31: ( | C31: 69647 | D31: ) | E31: ( | F31: 37317 | G31: ) | H31: ( | I31: 32330 | J31: ) | K31: ( | L31: － | M31: ) | N31: ( | O31: 181 | P31: ) | Q31: ( | R31: 1762 | S31: ) | T31: ( | U31: 1594 | V31: ) | W31: ( | X31: 168 | Y31: ) | Z31: ( | AA31: 30 | AB31: ) | AC31: ( | AD31: 17 | AE31: ) | AF31: ( | AG31: 13 | AH31: )
A32: 前月比 | C32: -0.067659275 | F32: -0.070607708 | I32: -0.064874898 | L32: － | O32: － | R32: -29.086355 | U32: -16.088093 | X32: － | AA32: -14.663805 | AD32: -0.88999644 | AG32: －
A33: 前年同月比 | C33: -0.83 | F33: -0.75 | I33: -0.91 | L33: － | O33: － | R33: -9.9 | U33: -3.8 | X33: － | AA33: -5.3 | AD33: -2.2 | AG33: －
A34: 注１） 人口・世帯数は、年別については10月１日現在、月別については当月１日現在の数値。令和２年は国勢調査結果の数値。
A35: なお、世帯数については、平成30年４月１日現在分より、年１回（10月１日現在）のみ調査。
A36: ２） 人口増減の集計期間は、年別については前年10月１日～当年９月30日、月別については前月１日～末日。
A37: ３） 令和元年及び令和２年の推計人口は、令和２年国勢調査結果に基づき補正を行っており、社会増減は人口増減に合わせて修正している。
A38: このため、転入から転出を引いた差と社会増減は必ずしも一致しない。
A39: ４） （ ）内は外国人で内数。

Sheet 7年12月
A2: 広島県の人口・世帯数・人口増減の推移（前年・前月との比較）
AB4: （単位：人、世帯、％）
A5: 年 月 | B5: 人口・世帯数（各年10月１日現在、各月１日現在） | R5: 人 口 増 減 （ 前１か月（年）間 ）
C6: 総数 | L6: 世 帯 数 | O6: 人口増減 | X6: 社会増減 | AG6: 自然増減
F7: 男 | I7: 女 | R7: 転 入 | U7: 転 出 | AA7: 出 生 | AD7: 死 亡
A8: 令和２年 | C8: 2799702 | F8: 1357156 | I8: 1442546 | L8: 1243527 | O8: -12155 | R8: 119072 | T8: 8498 | U8: 121688 | X8: -1646 | AA8: 20021 | AD8: 30530 | AG8: -10509
A9: ３ | C9: 2779314 | F9: 1347133 | I9: 1432181 | L9: 1245044 | O9: -20388 | R9: 112198 | T9: 8498 | U9: 120068 | X9: -7870 | AA9: 19210 | AC9: 31728 | AD9: 31728 | AG9: -12518
A10: ４ | C10: 2759702 | F10: 1337755 | I10: 1421947 | L10: 1249093 | O10: -19612 | R10: 118360 | U10: 122294 | X10: -3934 | AA10: 18277 | AD10: 33955 | AG10: -15678
A11: ５ | C11: 2739446 | F11: 1328642 | I11: 1410804 | L11: 1253831 | O11: -20256 | R11: 122043 | U11: 123827 | X11: -1784 | AA11: 17427 | AD11: 35899 | AG11: -18472
A12: ６ | C12: 2716733 | F12: 1318481 | I12: 1398252 | L12: 1258514 | O12: -22713 | R12: 119468 | U12: 122185 | X12: -2717 | AA12: 16290 | AD12: 36286 | AG12: -19996
B13: ( | C13: 62823 | D13: ) | E13: ( | F13: 32979 | G13: ) | H13: ( | I13: 29844 | J13: ) | K13: ( | L13: － | M13: ) | N13: ( | O13: 4831 | P13: ) | Q13: ( | R13: 25291 | S13: ) | T13: ( | U13: 20581 | V13: ) | W13: ( | X13: 4710 | Y13: ) | Z13: ( | AA13: 305 | AB13: ) | AC13: ( | AD13: 184 | AE13: ) | AF13: ( | AG13: 121 | AH13: )
A14: 令和７年 | C14: 2694648 | F14: 1308573 | I14: 1386075 | L14: 1262295 | O14: -22085 | R14: 119330 | U14: 120496 | X14: -1166 | AA14: 15603 | AD14: 36522 | AG14: -20919
B15: ( | C15: 68087 | D15: ) | E15: ( | F15: 36304 | G15: ) | H15: ( | I15: 31783 | J15: ) | K15: ( | L15: － | M15: ) | N15: ( | O15: 5264 | P15: ) | Q15: ( | R15: 26952 | S15: ) | T15: ( | U15: 21789 | V15: ) | W15: ( | X15: 5163 | Y15: ) | Z15: ( | AA15: 297 | AB15: ) | AC15: ( | AD15: 196 | AE15: ) | AF15: ( | AG15: 101 | AH15: )
A16: 令和７年１月 | C16: 2713340 | F16: 1316789 | I16: 1396551 | L16: － | O16: -1771 | R16: 7512 | U16: 7621 | X16: -109 | AA16: 1304 | AD16: 2966 | AG16: -1662
B17: ( | C17: 64812 | D17: ) | E17: ( | F17: 34091 | G17: ) | H17: ( | I17: 30721 | J17: ) | K17: ( | L17: － | M17: ) | N17: ( | O17: 54 | P17: ) | Q17: ( | R17: 1696 | S17: ) | T17: ( | U17: 1653 | V17: ) | W17: ( | X17: 43 | Y17: ) | Z17: ( | AA17: 25 | AB17: ) | AC17: ( | AD17: 14 | AE17: ) | AF17: ( | AG17: 11 | AH17: )
A18: ２ | C18: 2709938 | F18: 1315207 | I18: 1394731 | L18: － | O18: -3402 | R18: 7568 | U18: 7622 | X18: -54 | AA18: 1303 | AD18: 4651 | AG18: -3348
A19: ３ | C19: 2707782 | F19: 1314255 | I19: 1393527 | L19: － | O19: -2156 | R19: 8595 | U19: 8441 | X19: 154 | AA19: 1175 | AD19: 3485 | AG19: -2310
A20: ４ | C20: 2701097 | F20: 1310928 | I20: 1390169 | L20: － | O20: -6685 | R20: 20855 | U20: 25444 | X20: -4589 | AA20: 1166 | AD20: 3262 | AG20: -2096
A21: ５ | C21: 2701212 | F21: 1311293 | I21: 1389919 | L21: － | O21: 115 | R21: 16521 | U21: 14631 | X21: 1890 | AA21: 1274 | AD21: 3049 | AG21: -1775
A22: ６ | C22: 2699796 | F22: 1310675 | I22: 1389121 | L22: － | O22: -1416 | R22: 8671 | U22: 8667 | X22: 4 | AA22: 1279 | AD22: 2699 | AG22: -1420
A23: ７ | C23: 2698428 | F23: 1310151 | I23: 1388277 | L23: － | O23: -1368 | R23: 8280 | U23: 8244 | X23: 36 | AA23: 1291 | AD23: 2695 | AG23: -1404
A24: ８ | C24: 2697275 | F24: 1309736 | I24: 1387539 | L24: － | O24: -1153 | R24: 8885 | U24: 8635 | X24: 250 | AA24: 1364 | AD24: 2767 | AG24: -1403
A25: ９ | C25: 2695633 | F25: 1309027 | I25: 1386606 | L25: － | O25: -1642 | R25: 7707 | U25: 8271 | X25: -564 | AA25: 1357 | AD25: 2435 | AG25: -1078
A26: 10 | C26: 2694648 | F26: 1308573 | I26: 1386075 | L26: 1262295 | O26: -985 | R26: 8531 | U26: 8048 | X26: 483 | AA26: 1388 | AD26: 2856 | AG26: -1468
A27: 11 | C27: 2694383 | F27: 1308639 | I27: 1385744 | L27: － | O27: -265 | R27: 9183 | U27: 8037 | X27: 1146 | AA27: 1398 | AD27: 2809 | AG27: -1411
A28: 12 | C28: 2692560 | F28: 1307715 | I28: 1384845 | L28: － | O28: -1823 | R28: 6512 | U28: 6744 | X28: -232 | AA28: 1193 | AD28: 2784 | AG28: -1591
B29: ( | C29: 69647 | D29: ) | E29: ( | F29: 37317 | G29: ) | H29: ( | I29: 32330 | J29: ) | K29: ( | L29: － | M29: ) | N29: ( | O29: 181 | P29: ) | Q29: ( | R29: 1762 | S29: ) | T29: ( | U29: 1594 | V29: ) | W29: ( | X29: 168 | Y29: ) | Z29: ( | AA29: 30 | AB29: ) | AC29: ( | AD29: 17 | AE29: ) | AF29: ( | AG29: 13 | AH29: )
A30: 令和８年１月 | C30: 2690779 | F30: 1306702 | I30: 1384077 | L30: － | O30: -1781 | R30: 7409 | U30: 7594 | X30: -185 | AA30: 1290 | AD30: 2886 | AG30: -1596
B31: ( | C31: 69708 | D31: ) | E31: ( | F31: 37229 | G31: ) | H31: ( | I31: 32479 | J31: ) | K31: ( | L31: － | M31: ) | N31: ( | O31: 61 | P31: ) | Q31: ( | R31: 1719 | S31: ) | T31: ( | U31: 1670 | V31: ) | W31: ( | X31: 49 | Y31: ) | Z31: ( | AA31: 27 | AB31: ) | AC31: ( | AD31: 15 | AE31: ) | AF31: ( | AG31: 12 | AH31: )
A32: 前月比 | C32: -0.06614523 | F32: -0.077463362 | I32: -0.05545747 | L32: － | O32: － | R32: 13.77457 | U32: 12.603796 | X32: － | AA32: 8.1307628 | AD32: 3.6637931 | AG32: －
A33: 前年同月比 | C33: -0.83 | F33: -0.77 | I33: -0.89 | L33: － | O33: － | R33: -1.4 | U33: -0.4 | X33: － | AA33: -1.1 | AD33: -2.7 | AG33: －
A34: 注１） 人口・世帯数は、年別については10月１日現在、月別については当月１日現在の数値。令和２年は国勢調査結果の数値。
A35: なお、世帯数については、平成30年４月１日現在分より、年１回（10月１日現在）のみ調査。
A36: ２） 人口増減の集計期間は、年別については前年10月１日～当年９月30日、月別については前月１日～末日。
A37: ３） 令和元年及び令和２年の推計人口は、令和２年国勢調査結果に基づき補正を行っており、社会増減は人口増減に合わせて修正している。
A38: このため、転入から転出を引いた差と社会増減は必ずしも一致しない。
A39: ４） （ ）内は外国人で内数。

Sheet 8年1月
A2: 広島県の人口・世帯数・人口増減の推移（前年・前月との比較）
AB4: （単位：人、世帯、％）
A5: 年 月 | B5: 人口・世帯数（各年10月１日現在、各月１日現在） | R5: 人 口 増 減 （ 前１か月（年）間 ）
C6: 総数 | L6: 世 帯 数 | O6: 人口増減 | X6: 社会増減 | AG6: 自然増減
F7: 男 | I7: 女 | R7: 転 入 | U7: 転 出 | AA7: 出 生 | AD7: 死 亡
A8: 令和２年 | C8: 2799702 | F8: 1357156 | I8: 1442546 | L8: 1243527 | O8: -12155 | R8: 119072 | T8: 8498 | U8: 121688 | X8: -1646 | AA8: 20021 | AD8: 30530 | AG8: -10509
A9: ３ | C9: 2779314 | F9: 1347133 | I9: 1432181 | L9: 1245044 | O9: -20388 | R9: 112198 | T9: 8498 | U9: 120068 | X9: -7870 | AA9: 19210 | AC9: 31728 | AD9: 31728 | AG9: -12518
A10: ４ | C10: 2759702 | F10: 1337755 | I10: 1421947 | L10: 1249093 | O10: -19612 | R10: 118360 | U10: 122294 | X10: -3934 | AA10: 18277 | AD10: 33955 | AG10: -15678
A11: ５ | C11: 2739446 | F11: 1328642 | I11: 1410804 | L11: 1253831 | O11: -20256 | R11: 122043 | U11: 123827 | X11: -1784 | AA11: 17427 | AD11: 35899 | AG11: -18472
A12: ６ | C12: 2716733 | F12: 1318481 | I12: 1398252 | L12: 1258514 | O12: -22713 | R12: 119468 | U12: 122185 | X12: -2717 | AA12: 16290 | AD12: 36286 | AG12: -19996
B13: ( | C13: 62823 | D13: ) | E13: ( | F13: 32979 | G13: ) | H13: ( | I13: 29844 | J13: ) | K13: ( | L13: － | M13: ) | N13: ( | O13: 4831 | P13: ) | Q13: ( | R13: 25291 | S13: ) | T13: ( | U13: 20581 | V13: ) | W13: ( | X13: 4710 | Y13: ) | Z13: ( | AA13: 305 | AB13: ) | AC13: ( | AD13: 184 | AE13: ) | AF13: ( | AG13: 121 | AH13: )
A14: 令和７年 | C14: 2694648 | F14: 1308573 | I14: 1386075 | L14: 1262295 | O14: -22085 | R14: 119330 | U14: 120496 | X14: -1166 | AA14: 15603 | AD14: 36522 | AG14: -20919
B15: ( | C15: 68087 | D15: ) | E15: ( | F15: 36304 | G15: ) | H15: ( | I15: 31783 | J15: ) | K15: ( | L15: － | M15: ) | N15: ( | O15: 5264 | P15: ) | Q15: ( | R15: 26952 | S15: ) | T15: ( | U15: 21789 | V15: ) | W15: ( | X15: 5163 | Y15: ) | Z15: ( | AA15: 297 | AB15: ) | AC15: ( | AD15: 196 | AE15: ) | AF15: ( | AG15: 101 | AH15: )
A16: 令和７年２月 | C16: 2709938 | F16: 1315207 | I16: 1394731 | L16: － | O16: -3402 | R16: 7568 | U16: 7622 | X16: -54 | AA16: 1303 | AD16: 4651 | AG16: -3348
B17: ( | C17: 65072 | D17: ) | E17: ( | F17: 34318 | G17: ) | H17: ( | I17: 30754 | J17: ) | K17: ( | L17: － | M17: ) | N17: ( | O17: 260 | P17: ) | Q17: ( | R17: 1908 | S17: ) | T17: ( | U17: 1653 | V17: ) | W17: ( | X17: 255 | Y17: ) | Z17: ( | AA17: 27 | AB17: ) | AC17: ( | AD17: 22 | AE17: ) | AF17: ( | AG17: 5 | AH17: )
A18: ３ | C18: 2707782 | F18: 1314255 | I18: 1393527 | L18: － | O18: -2156 | R18: 8595 | U18: 8441 | X18: 154 | AA18: 1175 | AD18: 3485 | AG18: -2310
A19: ４ | C19: 2701097 | F19: 1310928 | I19: 1390169 | L19: － | O19: -6685 | R19: 20855 | U19: 25444 | X19: -4589 | AA19: 1166 | AD19: 3262 | AG19: -2096
A20: ５ | C20: 2701212 | F20: 1311293 | I20: 1389919 | L20: － | O20: 115 | R20: 16521 | U20: 14631 | X20: 1890 | AA20: 1274 | AD20: 3049 | AG20: -1775
A21: ６ | C21: 2699796 | F21: 1310675 | I21: 1389121 | L21: － | O21: -1416 | R21: 8671 | U21: 8667 | X21: 4 | AA21: 1279 | AD21: 2699 | AG21: -1420
A22: ７ | C22: 2698428 | F22: 1310151 | I22: 1388277 | L22: － | O22: -1368 | R22: 8280 | U22: 8244 | X22: 36 | AA22: 1291 | AD22: 2695 | AG22: -1404
A23: ８ | C23: 2697275 | F23: 1309736 | I23: 1387539 | L23: － | O23: -1153 | R23: 8885 | U23: 8635 | X23: 250 | AA23: 1364 | AD23: 2767 | AG23: -1403
A24: ９ | C24: 2695633 | F24: 1309027 | I24: 1386606 | L24: － | O24: -1642 | R24: 7707 | U24: 8271 | X24: -564 | AA24: 1357 | AD24: 2435 | AG24: -1078
A25: 10 | C25: 2694648 | F25: 1308573 | I25: 1386075 | L25: 1262295 | O25: -985 | R25: 8531 | U25: 8048 | X25: 483 | AA25: 1388 | AD25: 2856 | AG25: -1468
A26: 11 | C26: 2694383 | F26: 1308639 | I26: 1385744 | L26: － | O26: -265 | R26: 9183 | U26: 8037 | X26: 1146 | AA26: 1398 | AD26: 2809 | AG26: -1411
A27: 12 | C27: 2692560 | F27: 1307715 | I27: 1384845 | L27: － | O27: -1823 | R27: 6512 | U27: 6744 | X27: -232 | AA27: 1193 | AD27: 2784 | AG27: -1591
A28: 令和８年１月 | C28: 2690779 | F28: 1306702 | I28: 1384077 | L28: － | O28: -1781 | R28: 7409 | U28: 7594 | X28: -185 | AA28: 1290 | AD28: 2886 | AG28: -1596
B29: ( | C29: 69708 | D29: ) | E29: ( | F29: 37229 | G29: ) | H29: ( | I29: 32479 | J29: ) | K29: ( | L29: － | M29: ) | N29: ( | O29: 61 | P29: ) | Q29: ( | R29: 1719 | S29: ) | T29: ( | U29: 1670 | V29: ) | W29: ( | X29: 49 | Y29: ) | Z29: ( | AA29: 27 | AB29: ) | AC29: ( | AD29: 15 | AE29: ) | AF29: ( | AG29: 12 | AH29: )
A30: ２ | C30: 2688449 | F30: 1305604 | I30: 1382845 | L30: － | O30: -2330 | R30: 7649 | U30: 7742 | X30: -93 | AA30: 1442 | AD30: 3679 | AG30: -2237
B31: ( | C31: 69870 | D31: ) | E31: ( | F31: 37376 | G31: ) | H31: ( | I31: 32494 | J31: ) | K31: ( | L31: － | M31: ) | N31: ( | O31: 162 | P31: ) | Q31: ( | R31: 1844 | S31: ) | T31: ( | U31: 1693 | V31: ) | W31: ( | X31: 151 | Y31: ) | Z31: ( | AA31: 32 | AB31: ) | AC31: ( | AD31: 21 | AE31: ) | AF31: ( | AG31: 11 | AH31: )
A32: 前月比 | C32: -0.086592024 | F32: -0.08402834 | I32: -0.089012389 | L32: － | O32: － | R32: 3.2393035 | U32: 1.948907 | X32: － | AA32: 11.782946 | AD32: 27.477477 | AG32: －
A33: 前年同月比 | C33: -0.79 | F33: -0.73 | I33: -0.85 | L33: － | O33: － | R33: 1.1 | U33: 1.6 | X33: － | AA33: 10.7 | AD33: -20.9 | AG33: －
A34: 注１） 人口・世帯数は、年別については10月１日現在、月別については当月１日現在の数値。令和２年は国勢調査結果の数値。
A35: なお、世帯数については、平成30年４月１日現在分より、年１回（10月１日現在）のみ調査。
A36: ２） 人口増減の集計期間は、年別については前年10月１日～当年９月30日、月別については前月１日～末日。
A37: ３） 令和元年及び令和２年の推計人口は、令和２年国勢調査結果に基づき補正を行っており、社会増減は人口増減に合わせて修正している。
A38: このため、転入から転出を引いた差と社会増減は必ずしも一致しない。
A39: ４） （ ）内は外国人で内数。

Sheet 8年2月
A2: 広島県の人口・世帯数・人口増減の推移（前年・前月との比較）
AB4: （単位：人、世帯、％）
A5: 年 月 | B5: 人口・世帯数（各年10月１日現在、各月１日現在） | R5: 人 口 増 減 （ 前１か月（年）間 ）
C6: 総数 | L6: 世 帯 数 | O6: 人口増減 | X6: 社会増減 | AG6: 自然増減
F7: 男 | I7: 女 | R7: 転 入 | U7: 転 出 | AA7: 出 生 | AD7: 死 亡
A8: 令和２年 | C8: 2799702 | F8: 1357156 | I8: 1442546 | L8: 1243527 | O8: -12155 | R8: 119072 | T8: 8498 | U8: 121688 | X8: -1646 | AA8: 20021 | AD8: 30530 | AG8: -10509
A9: ３ | C9: 2779314 | F9: 1347133 | I9: 1432181 | L9: 1245044 | O9: -20388 | R9: 112198 | T9: 8498 | U9: 120068 | X9: -7870 | AA9: 19210 | AC9: 31728 | AD9: 31728 | AG9: -12518
A10: ４ | C10: 2759702 | F10: 1337755 | I10: 1421947 | L10: 1249093 | O10: -19612 | R10: 118360 | U10: 122294 | X10: -3934 | AA10: 18277 | AD10: 33955 | AG10: -15678
A11: ５ | C11: 2739446 | F11: 1328642 | I11: 1410804 | L11: 1253831 | O11: -20256 | R11: 122043 | U11: 123827 | X11: -1784 | AA11: 17427 | AD11: 35899 | AG11: -18472
A12: ６ | C12: 2716733 | F12: 1318481 | I12: 1398252 | L12: 1258514 | O12: -22713 | R12: 119468 | U12: 122185 | X12: -2717 | AA12: 16290 | AD12: 36286 | AG12: -19996
B13: ( | C13: 62823 | D13: ) | E13: ( | F13: 32979 | G13: ) | H13: ( | I13: 29844 | J13: ) | K13: ( | L13: － | M13: ) | N13: ( | O13: 4831 | P13: ) | Q13: ( | R13: 25291 | S13: ) | T13: ( | U13: 20581 | V13: ) | W13: ( | X13: 4710 | Y13: ) | Z13: ( | AA13: 305 | AB13: ) | AC13: ( | AD13: 184 | AE13: ) | AF13: ( | AG13: 121 | AH13: )
A14: 令和７年 | C14: 2694648 | F14: 1308573 | I14: 1386075 | L14: 1262295 | O14: -22085 | R14: 119330 | U14: 120496 | X14: -1166 | AA14: 15603 | AD14: 36522 | AG14: -20919
B15: ( | C15: 68087 | D15: ) | E15: ( | F15: 36304 | G15: ) | H15: ( | I15: 31783 | J15: ) | K15: ( | L15: － | M15: ) | N15: ( | O15: 5264 | P15: ) | Q15: ( | R15: 26952 | S15: ) | T15: ( | U15: 21789 | V15: ) | W15: ( | X15: 5163 | Y15: ) | Z15: ( | AA15: 297 | AB15: ) | AC15: ( | AD15: 196 | AE15: ) | AF15: ( | AG15: 101 | AH15: )
A16: 令和７年３月 | C16: 2707782 | F16: 1314255 | I16: 1393527 | L16: － | O16: -2156 | R16: 8595 | U16: 8441 | X16: 154 | AA16: 1175 | AD16: 3485 | AG16: -2310
B17: ( | C17: 65635 | D17: ) | E17: ( | F17: 34643 | G17: ) | H17: ( | I17: 30992 | J17: ) | K17: ( | L17: － | M17: ) | N17: ( | O17: 563 | P17: ) | Q17: ( | R17: 2096 | S17: ) | T17: ( | U17: 1538 | V17: ) | W17: ( | X17: 558 | Y17: ) | Z17: ( | AA17: 28 | AB17: ) | AC17: ( | AD17: 23 | AE17: ) | AF17: ( | AG17: 5 | AH17: )
A18: ４ | C18: 2701097 | F18: 1310928 | I18: 1390169 | L18: － | O18: -6685 | R18: 20855 | U18: 25444 | X18: -4589 | AA18: 1166 | AD18: 3262 | AG18: -2096
A19: ５ | C19: 2701212 | F19: 1311293 | I19: 1389919 | L19: － | O19: 115 | R19: 16521 | U19: 14631 | X19: 1890 | AA19: 1274 | AD19: 3049 | AG19: -1775
A20: ６ | C20: 2699796 | F20: 1310675 | I20: 1389121 | L20: － | O20: -1416 | R20: 8671 | U20: 8667 | X20: 4 | AA20: 1279 | AD20: 2699 | AG20: -1420
A21: ７ | C21: 2698428 | F21: 1310151 | I21: 1388277 | L21: － | O21: -1368 | R21: 8280 | U21: 8244 | X21: 36 | AA21: 1291 | AD21: 2695 | AG21: -1404
A22: ８ | C22: 2697275 | F22: 1309736 | I22: 1387539 | L22: － | O22: -1153 | R22: 8885 | U22: 8635 | X22: 250 | AA22: 1364 | AD22: 2767 | AG22: -1403
A23: ９ | C23: 2695633 | F23: 1309027 | I23: 1386606 | L23: － | O23: -1642 | R23: 7707 | U23: 8271 | X23: -564 | AA23: 1357 | AD23: 2435 | AG23: -1078
A24: 10 | C24: 2694648 | F24: 1308573 | I24: 1386075 | L24: 1262295 | O24: -985 | R24: 8531 | U24: 8048 | X24: 483 | AA24: 1388 | AD24: 2856 | AG24: -1468
A25: 11 | C25: 2694383 | F25: 1308639 | I25: 1385744 | L25: － | O25: -265 | R25: 9183 | U25: 8037 | X25: 1146 | AA25: 1398 | AD25: 2809 | AG25: -1411
A26: 12 | C26: 2692560 | F26: 1307715 | I26: 1384845 | L26: － | O26: -1823 | R26: 6512 | U26: 6744 | X26: -232 | AA26: 1193 | AD26: 2784 | AG26: -1591
A27: 令和８年１月 | C27: 2690779 | F27: 1306702 | I27: 1384077 | L27: － | O27: -1781 | R27: 7409 | U27: 7594 | X27: -185 | AA27: 1290 | AD27: 2886 | AG27: -1596
A28: ２ | C28: 2688449 | F28: 1305604 | I28: 1382845 | L28: － | O28: -2330 | R28: 7649 | U28: 7742 | X28: -93 | AA28: 1442 | AD28: 3679 | AG28: -2237
B29: ( | C29: 69870 | D29: ) | E29: ( | F29: 37376 | G29: ) | H29: ( | I29: 32494 | J29: ) | K29: ( | L29: － | M29: ) | N29: ( | O29: 162 | P29: ) | Q29: ( | R29: 1844 | S29: ) | T29: ( | U29: 1693 | V29: ) | W29: ( | X29: 151 | Y29: ) | Z29: ( | AA29: 32 | AB29: ) | AC29: ( | AD29: 21 | AE29: ) | AF29: ( | AG29: 11 | AH29: )
A30: ３ | C30: 2686030 | F30: 1304303 | I30: 1381727 | L30: － | O30: -2419 | R30: 7854 | U30: 8416 | X30: -562 | AA30: 1157 | AD30: 3014 | AG30: -1857
B31: ( | C31: 69790 | D31: ) | E31: ( | F31: 37294 | G31: ) | H31: ( | I31: 32496 | J31: ) | K31: ( | L31: － | M31: ) | N31: ( | O31: -80 | P31: ) | Q31: ( | R31: 1699 | S31: ) | T31: ( | U31: 1791 | V31: ) | W31: ( | X31: -92 | Y31: ) | Z31: ( | AA31: 23 | AB31: ) | AC31: ( | AD31: 11 | AE31: ) | AF31: ( | AG31: 12 | AH31: )
A32: 前月比 | C32: -0.08997753 | F32: -0.099647366 | I32: -0.080847817 | L32: － | O32: － | R32: 2.6800889 | U32: 8.7057608 | X32: － | AA32: -19.764216 | AD32: -18.075564 | AG32: －
A33: 前年同月比 | C33: -0.8 | F33: -0.76 | I33: -0.85 | L33: － | O33: － | R33: -8.6 | U33: -0.3 | X33: － | AA33: -1.5 | AD33: -13.5 | AG33: －
A34: 注１） 人口・世帯数は、年別については10月１日現在、月別については当月１日現在の数値。令和２年は国勢調査結果の数値。
A35: なお、世帯数については、平成30年４月１日現在分より、年１回（10月１日現在）のみ調査。
A36: ２） 人口増減の集計期間は、年別については前年10月１日～当年９月30日、月別については前月１日～末日。
A37: ３） 令和元年及び令和２年の推計人口は、令和２年国勢調査結果に基づき補正を行っており、社会増減は人口増減に合わせて修正している。
A38: このため、転入から転出を引いた差と社会増減は必ずしも一致しない。
A39: ４） （ ）内は外国人で内数。

Sheet 8年3月
A2: 広島県の人口・世帯数・人口増減の推移（前年・前月との比較）
AB4: （単位：人、世帯、％）
A5: 年 月 | B5: 人口・世帯数（各年10月１日現在、各月１日現在） | R5: 人 口 増 減 （ 前１か月（年）間 ）
C6: 総数 | L6: 世 帯 数 | O6: 人口増減 | X6: 社会増減 | AG6: 自然増減
F7: 男 | I7: 女 | R7: 転 入 | U7: 転 出 | AA7: 出 生 | AD7: 死 亡
A8: 令和２年 | C8: 2799702 | F8: 1357156 | I8: 1442546 | L8: 1243527 | O8: -12155 | R8: 119072 | T8: 8498 | U8: 121688 | X8: -1646 | AA8: 20021 | AD8: 30530 | AG8: -10509
A9: ３ | C9: 2779314 | F9: 1347133 | I9: 1432181 | L9: 1245044 | O9: -20388 | R9: 112198 | T9: 8498 | U9: 120068 | X9: -7870 | AA9: 19210 | AC9: 31728 | AD9: 31728 | AG9: -12518
A10: ４ | C10: 2759702 | F10: 1337755 | I10: 1421947 | L10: 1249093 | O10: -19612 | R10: 118360 | U10: 122294 | X10: -3934 | AA10: 18277 | AD10: 33955 | AG10: -15678
A11: ５ | C11: 2739446 | F11: 1328642 | I11: 1410804 | L11: 1253831 | O11: -20256 | R11: 122043 | U11: 123827 | X11: -1784 | AA11: 17427 | AD11: 35899 | AG11: -18472
A12: ６ | C12: 2716733 | F12: 1318481 | I12: 1398252 | L12: 1258514 | O12: -22713 | R12: 119468 | U12: 122185 | X12: -2717 | AA12: 16290 | AD12: 36286 | AG12: -19996
B13: ( | C13: 62823 | D13: ) | E13: ( | F13: 32979 | G13: ) | H13: ( | I13: 29844 | J13: ) | K13: ( | L13: － | M13: ) | N13: ( | O13: 4831 | P13: ) | Q13: ( | R13: 25291 | S13: ) | T13: ( | U13: 20581 | V13: ) | W13: ( | X13: 4710 | Y13: ) | Z13: ( | AA13: 305 | AB13: ) | AC13: ( | AD13: 184 | AE13: ) | AF13: ( | AG13: 121 | AH13: )
A14: 令和７年 | C14: 2694648 | F14: 1308573 | I14: 1386075 | L14: 1262295 | O14: -22085 | R14: 119330 | U14: 120496 | X14: -1166 | AA14: 15603 | AD14: 36522 | AG14: -20919
B15: ( | C15: 68087 | D15: ) | E15: ( | F15: 36304 | G15: ) | H15: ( | I15: 31783 | J15: ) | K15: ( | L15: － | M15: ) | N15: ( | O15: 5264 | P15: ) | Q15: ( | R15: 26952 | S15: ) | T15: ( | U15: 21789 | V15: ) | W15: ( | X15: 5163 | Y15: ) | Z15: ( | AA15: 297 | AB15: ) | AC15: ( | AD15: 196 | AE15: ) | AF15: ( | AG15: 101 | AH15: )
A16: 令和７年４月 | C16: 2701097 | F16: 1310928 | I16: 1390169 | L16: － | O16: -6685 | R16: 20855 | U16: 25444 | X16: -4589 | AA16: 1166 | AD16: 3262 | AG16: -2096
B17: ( | C17: 65409 | D17: ) | E17: ( | F17: 34655 | G17: ) | H17: ( | I17: 30754 | J17: ) | K17: ( | L17: － | M17: ) | N17: ( | O17: -226 | P17: ) | Q17: ( | R17: 2634 | S17: ) | T17: ( | U17: 2862 | V17: ) | W17: ( | X17: -228 | Y17: ) | Z17: ( | AA17: 19 | AB17: ) | AC17: ( | AD17: 17 | AE17: ) | AF17: ( | AG17: 2 | AH17: )
A18: ５ | C18: 2701212 | F18: 1311293 | I18: 1389919 | L18: － | O18: 115 | R18: 16521 | U18: 14631 | X18: 1890 | AA18: 1274 | AD18: 3049 | AG18: -1775
A19: ６ | C19: 2699796 | F19: 1310675 | I19: 1389121 | L19: － | O19: -1416 | R19: 8671 | U19: 8667 | X19: 4 | AA19: 1279 | AD19: 2699 | AG19: -1420
A20: ７ | C20: 2698428 | F20: 1310151 | I20: 1388277 | L20: － | O20: -1368 | R20: 8280 | U20: 8244 | X20: 36 | AA20: 1291 | AD20: 2695 | AG20: -1404
A21: ８ | C21: 2697275 | F21: 1309736 | I21: 1387539 | L21: － | O21: -1153 | R21: 8885 | U21: 8635 | X21: 250 | AA21: 1364 | AD21: 2767 | AG21: -1403
A22: ９ | C22: 2695633 | F22: 1309027 | I22: 1386606 | L22: － | O22: -1642 | R22: 7707 | U22: 8271 | X22: -564 | AA22: 1357 | AD22: 2435 | AG22: -1078
A23: 10 | C23: 2694648 | F23: 1308573 | I23: 1386075 | L23: 1262295 | O23: -985 | R23: 8531 | U23: 8048 | X23: 483 | AA23: 1388 | AD23: 2856 | AG23: -1468
A24: 11 | C24: 2694383 | F24: 1308639 | I24: 1385744 | L24: － | O24: -265 | R24: 9183 | U24: 8037 | X24: 1146 | AA24: 1398 | AD24: 2809 | AG24: -1411
A25: 12 | C25: 2692560 | F25: 1307715 | I25: 1384845 | L25: － | O25: -1823 | R25: 6512 | U25: 6744 | X25: -232 | AA25: 1193 | AD25: 2784 | AG25: -1591
A26: 令和８年１月 | C26: 2690779 | F26: 1306702 | I26: 1384077 | L26: － | O26: -1781 | R26: 7409 | U26: 7594 | X26: -185 | AA26: 1290 | AD26: 2886 | AG26: -1596
A27: ２ | C27: 2688449 | F27: 1305604 | I27: 1382845 | L27: － | O27: -2330 | R27: 7649 | U27: 7742 | X27: -93 | AA27: 1442 | AD27: 3679 | AG27: -2237
A28: ３ | C28: 2686030 | F28: 1304303 | I28: 1381727 | L28: － | O28: -2419 | R28: 7854 | U28: 8416 | X28: -562 | AA28: 1157 | AD28: 3014 | AG28: -1857
B29: ( | C29: 69790 | D29: ) | E29: ( | F29: 37294 | G29: ) | H29: ( | I29: 32496 | J29: ) | K29: ( | L29: － | M29: ) | N29: ( | O29: -80 | P29: ) | Q29: ( | R29: 1699 | S29: ) | T29: ( | U29: 1791 | V29: ) | W29: ( | X29: -92 | Y29: ) | Z29: ( | AA29: 23 | AB29: ) | AC29: ( | AD29: 11 | AE29: ) | AF29: ( | AG29: 12 | AH29: )
A30: ４ | C30: 2679623 | F30: 1300966 | I30: 1378657 | L30: － | O30: -6407 | R30: 20783 | U30: 25346 | X30: -4563 | AA30: 1260 | AD30: 3104 | AG30: -1844
B31: ( | C31: 69458 | D31: ) | E31: ( | F31: 37209 | G31: ) | H31: ( | I31: 32249 | J31: ) | K31: ( | L31: － | M31: ) | N31: ( | O31: -332 | P31: ) | Q31: ( | R31: 2806 | S31: ) | T31: ( | U31: 3150 | V31: ) | W31: ( | X31: -344 | Y31: ) | Z31: ( | AA31: 31 | AB31: ) | AC31: ( | AD31: 19 | AE31: ) | AF31: ( | AG31: 12 | AH31: )
A32: 前月比 | C32: -0.23853047 | F32: -0.25584546 | I32: -0.22218571 | L32: － | O32: － | R32: 164.61676 | U32: 201.16445 | X32: － | AA32: 8.9023336 | AD32: 2.986065 | AG32: －
A33: 前年同月比 | C33: -0.8 | F33: -0.76 | I33: -0.83 | L33: － | O33: － | R33: -0.3 | U33: -0.4 | X33: － | AA33: 8.1 | AD33: -4.8 | AG33: －
A34: 注１） 人口・世帯数は、年別については10月１日現在、月別については当月１日現在の数値。令和２年は国勢調査結果の数値。
A35: なお、世帯数については、平成30年４月１日現在分より、年１回（10月１日現在）のみ調査。
A36: ２） 人口増減の集計期間は、年別については前年10月１日～当年９月30日、月別については前月１日～末日。
A37: ３） 令和元年及び令和２年の推計人口は、令和２年国勢調査結果に基づき補正を行っており、社会増減は人口増減に合わせて修正している。
A38: このため、転入から転出を引いた差と社会増減は必ずしも一致しない。
A39: ４） （ ）内は外国人で内数。

Sheet 8年4月
A2: 広島県の人口・世帯数・人口増減の推移（前年・前月との比較）
AB4: （単位：人、世帯、％）
A5: 年 月 | B5: 人口・世帯数（各年10月１日現在、各月１日現在） | R5: 人 口 増 減 （ 前１か月（年）間 ）
C6: 総数 | L6: 世 帯 数 | O6: 人口増減 | X6: 社会増減 | AG6: 自然増減
F7: 男 | I7: 女 | R7: 転 入 | U7: 転 出 | AA7: 出 生 | AD7: 死 亡
A8: 令和２年 | C8: 2799702 | F8: 1357156 | I8: 1442546 | L8: 1243527 | O8: -12155 | R8: 119072 | T8: 8498 | U8: 121688 | X8: -1646 | AA8: 20021 | AD8: 30530 | AG8: -10509
A9: ３ | C9: 2779314 | F9: 1347133 | I9: 1432181 | L9: 1245044 | O9: -20388 | R9: 112198 | T9: 8498 | U9: 120068 | X9: -7870 | AA9: 19210 | AC9: 31728 | AD9: 31728 | AG9: -12518
A10: ４ | C10: 2759702 | F10: 1337755 | I10: 1421947 | L10: 1249093 | O10: -19612 | R10: 118360 | U10: 122294 | X10: -3934 | AA10: 18277 | AD10: 33955 | AG10: -15678
A11: ５ | C11: 2739446 | F11: 1328642 | I11: 1410804 | L11: 1253831 | O11: -20256 | R11: 122043 | U11: 123827 | X11: -1784 | AA11: 17427 | AD11: 35899 | AG11: -18472
A12: ６ | C12: 2716733 | F12: 1318481 | I12: 1398252 | L12: 1258514 | O12: -22713 | R12: 119468 | U12: 122185 | X12: -2717 | AA12: 16290 | AD12: 36286 | AG12: -19996
B13: ( | C13: 62823 | D13: ) | E13: ( | F13: 32979 | G13: ) | H13: ( | I13: 29844 | J13: ) | K13: ( | L13: － | M13: ) | N13: ( | O13: 4831 | P13: ) | Q13: ( | R13: 25291 | S13: ) | T13: ( | U13: 20581 | V13: ) | W13: ( | X13: 4710 | Y13: ) | Z13: ( | AA13: 305 | AB13: ) | AC13: ( | AD13: 184 | AE13: ) | AF13: ( | AG13: 121 | AH13: )
A14: 令和７年 | C14: 2694648 | F14: 1308573 | I14: 1386075 | L14: 1262295 | O14: -22085 | R14: 119330 | U14: 120496 | X14: -1166 | AA14: 15603 | AD14: 36522 | AG14: -20919
B15: ( | C15: 68087 | D15: ) | E15: ( | F15: 36304 | G15: ) | H15: ( | I15: 31783 | J15: ) | K15: ( | L15: － | M15: ) | N15: ( | O15: 5264 | P15: ) | Q15: ( | R15: 26952 | S15: ) | T15: ( | U15: 21789 | V15: ) | W15: ( | X15: 5163 | Y15: ) | Z15: ( | AA15: 297 | AB15: ) | AC15: ( | AD15: 196 | AE15: ) | AF15: ( | AG15: 101 | AH15: )
A16: 令和７年５月 | C16: 2701212 | F16: 1311293 | I16: 1389919 | L16: － | O16: 115 | R16: 16521 | U16: 14631 | X16: 1890 | AA16: 1274 | AD16: 3049 | AG16: -1775
B17: ( | C17: 66363 | D17: ) | E17: ( | F17: 35115 | G17: ) | H17: ( | I17: 31248 | J17: ) | K17: ( | L17: － | M17: ) | N17: ( | O17: 954 | P17: ) | Q17: ( | R17: 3298 | S17: ) | T17: ( | U17: 2346 | V17: ) | W17: ( | X17: 952 | Y17: ) | Z17: ( | AA17: 20 | AB17: ) | AC17: ( | AD17: 18 | AE17: ) | AF17: ( | AG17: 2 | AH17: )
A18: ６ | C18: 2699796 | F18: 1310675 | I18: 1389121 | L18: － | O18: -1416 | R18: 8671 | U18: 8667 | X18: 4 | AA18: 1279 | AD18: 2699 | AG18: -1420
A19: ７ | C19: 2698428 | F19: 1310151 | I19: 1388277 | L19: － | O19: -1368 | R19: 8280 | U19: 8244 | X19: 36 | AA19: 1291 | AD19: 2695 | AG19: -1404
A20: ８ | C20: 2697275 | F20: 1309736 | I20: 1387539 | L20: － | O20: -1153 | R20: 8885 | U20: 8635 | X20: 250 | AA20: 1364 | AD20: 2767 | AG20: -1403
A21: ９ | C21: 2695633 | F21: 1309027 | I21: 1386606 | L21: － | O21: -1642 | R21: 7707 | U21: 8271 | X21: -564 | AA21: 1357 | AD21: 2435 | AG21: -1078
A22: 10 | C22: 2694648 | F22: 1308573 | I22: 1386075 | L22: 1262295 | O22: -985 | R22: 8531 | U22: 8048 | X22: 483 | AA22: 1388 | AD22: 2856 | AG22: -1468
A23: 11 | C23: 2694383 | F23: 1308639 | I23: 1385744 | L23: － | O23: -265 | R23: 9183 | U23: 8037 | X23: 1146 | AA23: 1398 | AD23: 2809 | AG23: -1411
A24: 12 | C24: 2692560 | F24: 1307715 | I24: 1384845 | L24: － | O24: -1823 | R24: 6512 | U24: 6744 | X24: -232 | AA24: 1193 | AD24: 2784 | AG24: -1591
A25: 令和８年１月 | C25: 2690779 | F25: 1306702 | I25: 1384077 | L25: － | O25: -1781 | R25: 7409 | U25: 7594 | X25: -185 | AA25: 1290 | AD25: 2886 | AG25: -1596
A26: ２ | C26: 2688449 | F26: 1305604 | I26: 1382845 | L26: － | O26: -2330 | R26: 7649 | U26: 7742 | X26: -93 | AA26: 1442 | AD26: 3679 | AG26: -2237
A27: ３ | C27: 2686030 | F27: 1304303 | I27: 1381727 | L27: － | O27: -2419 | R27: 7854 | U27: 8416 | X27: -562 | AA27: 1157 | AD27: 3014 | AG27: -1857
A28: ４ | C28: 2679623 | F28: 1300966 | I28: 1378657 | L28: － | O28: -6407 | R28: 20783 | U28: 25346 | X28: -4563 | AA28: 1260 | AD28: 3104 | AG28: -1844
B29: ( | C29: 69458 | D29: ) | E29: ( | F29: 37209 | G29: ) | H29: ( | I29: 32249 | J29: ) | K29: ( | L29: － | M29: ) | N29: ( | O29: -332 | P29: ) | Q29: ( | R29: 2806 | S29: ) | T29: ( | U29: 3150 | V29: ) | W29: ( | X29: -344 | Y29: ) | Z29: ( | AA29: 31 | AB29: ) | AC29: ( | AD29: 19 | AE29: ) | AF29: ( | AG29: 12 | AH29: )
A30: ５ | C30: 2681117 | F30: 1302269 | I30: 1378848 | L30: － | O30: 1494 | R30: 17407 | U30: 14497 | X30: 2910 | AA30: 1273 | AD30: 2689 | AG30: -1416
B31: ( | C31: 71308 | D31: ) | E31: ( | F31: 38303 | G31: ) | H31: ( | I31: 33005 | J31: ) | K31: ( | L31: － | M31: ) | N31: ( | O31: 1850 | P31: ) | Q31: ( | R31: 3970 | S31: ) | T31: ( | U31: 2132 | V31: ) | W31: ( | X31: 1838 | Y31: ) | Z31: ( | AA31: 24 | AB31: ) | AC31: ( | AD31: 12 | AE31: ) | AF31: ( | AG31: 12 | AH31: )
A32: 前月比 | C32: 0.055754112 | F32: 0.10015635 | I32: 0.013854062 | L32: － | O32: － | R32: -16.244046 | U32: -42.803598 | X32: － | AA32: 1.031746 | AD32: -13.369845 | AG32: －
A33: 前年同月比 | C33: -0.74 | F33: -0.69 | I33: -0.8 | L33: － | O33: － | R33: 5.4 | U33: -0.9 | X33: － | AA33: -0.1 | AD33: -11.8 | AG33: －
A34: 注１） 人口・世帯数は、年別については10月１日現在、月別については当月１日現在の数値。令和２年は国勢調査結果の数値。
A35: なお、世帯数については、平成30年４月１日現在分より、年１回（10月１日現在）のみ調査。
A36: ２） 人口増減の集計期間は、年別については前年10月１日～当年９月30日、月別については前月１日～末日。
A37: ３） 令和２年の推計人口は、令和２年国勢調査結果に基づき補正を行っており、社会増減は人口増減に合わせて修正している。
A38: このため、転入から転出を引いた差と社会増減は必ずしも一致しない。
A39: ４） （ ）内は外国人で内数。

Sheet 8年5月
A2: 広島県の人口・世帯数・人口増減の推移（前年・前月との比較）
AB4: （単位：人、世帯、％）
A5: 年 月 | B5: 人口・世帯数（各年10月１日現在、各月１日現在） | R5: 人 口 増 減 （ 前１か月（年）間 ）
C6: 総数 | L6: 世 帯 数 | O6: 人口増減 | X6: 社会増減 | AG6: 自然増減
F7: 男 | I7: 女 | R7: 転 入 | U7: 転 出 | AA7: 出 生 | AD7: 死 亡
A8: 令和２年 | C8: 2799702 | F8: 1357156 | I8: 1442546 | L8: 1243527 | O8: -12155 | R8: 119072 | T8: 8498 | U8: 121688 | X8: -1646 | AA8: 20021 | AD8: 30530 | AG8: -10509
A9: ３ | C9: 2779314 | F9: 1347133 | I9: 1432181 | L9: 1245044 | O9: -20388 | R9: 112198 | T9: 8498 | U9: 120068 | X9: -7870 | AA9: 19210 | AC9: 31728 | AD9: 31728 | AG9: -12518
A10: ４ | C10: 2759702 | F10: 1337755 | I10: 1421947 | L10: 1249093 | O10: -19612 | R10: 118360 | U10: 122294 | X10: -3934 | AA10: 18277 | AD10: 33955 | AG10: -15678
A11: ５ | C11: 2739446 | F11: 1328642 | I11: 1410804 | L11: 1253831 | O11: -20256 | R11: 122043 | U11: 123827 | X11: -1784 | AA11: 17427 | AD11: 35899 | AG11: -18472
A12: ６ | C12: 2716733 | F12: 1318481 | I12: 1398252 | L12: 1258514 | O12: -22713 | R12: 119468 | U12: 122185 | X12: -2717 | AA12: 16290 | AD12: 36286 | AG12: -19996
B13: ( | C13: 62823 | D13: ) | E13: ( | F13: 32979 | G13: ) | H13: ( | I13: 29844 | J13: ) | K13: ( | L13: － | M13: ) | N13: ( | O13: 4831 | P13: ) | Q13: ( | R13: 25291 | S13: ) | T13: ( | U13: 20581 | V13: ) | W13: ( | X13: 4710 | Y13: ) | Z13: ( | AA13: 305 | AB13: ) | AC13: ( | AD13: 184 | AE13: ) | AF13: ( | AG13: 121 | AH13: )
A14: 令和７年 | C14: 2694648 | F14: 1308573 | I14: 1386075 | L14: 1262295 | O14: -22085 | R14: 119330 | U14: 120496 | X14: -1166 | AA14: 15603 | AD14: 36522 | AG14: -20919
B15: ( | C15: 68087 | D15: ) | E15: ( | F15: 36304 | G15: ) | H15: ( | I15: 31783 | J15: ) | K15: ( | L15: － | M15: ) | N15: ( | O15: 5264 | P15: ) | Q15: ( | R15: 26952 | S15: ) | T15: ( | U15: 21789 | V15: ) | W15: ( | X15: 5163 | Y15: ) | Z15: ( | AA15: 297 | AB15: ) | AC15: ( | AD15: 196 | AE15: ) | AF15: ( | AG15: 101 | AH15: )
A16: 令和７年６月 | C16: 2699796 | F16: 1310675 | I16: 1389121 | L16: － | O16: -1416 | R16: 8671 | U16: 8667 | X16: 4 | AA16: 1279 | AD16: 2699 | AG16: -1420
B17: ( | C17: 66610 | D17: ) | E17: ( | F17: 35260 | G17: ) | H17: ( | I17: 31350 | J17: ) | K17: ( | L17: － | M17: ) | N17: ( | O17: 247 | P17: ) | Q17: ( | R17: 2158 | S17: ) | T17: ( | U17: 1922 | V17: ) | W17: ( | X17: 236 | Y17: ) | Z17: ( | AA17: 24 | AB17: ) | AC17: ( | AD17: 13 | AE17: ) | AF17: ( | AG17: 11 | AH17: )
A18: ７ | C18: 2698428 | F18: 1310151 | I18: 1388277 | L18: － | O18: -1368 | R18: 8280 | U18: 8244 | X18: 36 | AA18: 1291 | AD18: 2695 | AG18: -1404
A19: ８ | C19: 2697275 | F19: 1309736 | I19: 1387539 | L19: － | O19: -1153 | R19: 8885 | U19: 8635 | X19: 250 | AA19: 1364 | AD19: 2767 | AG19: -1403
A20: ９ | C20: 2695633 | F20: 1309027 | I20: 1386606 | L20: － | O20: -1642 | R20: 7707 | U20: 8271 | X20: -564 | AA20: 1357 | AD20: 2435 | AG20: -1078
A21: 10 | C21: 2694648 | F21: 1308573 | I21: 1386075 | L21: 1262295 | O21: -985 | R21: 8531 | U21: 8048 | X21: 483 | AA21: 1388 | AD21: 2856 | AG21: -1468
A22: 11 | C22: 2694383 | F22: 1308639 | I22: 1385744 | L22: － | O22: -265 | R22: 9183 | U22: 8037 | X22: 1146 | AA22: 1398 | AD22: 2809 | AG22: -1411
A23: 12 | C23: 2692560 | F23: 1307715 | I23: 1384845 | L23: － | O23: -1823 | R23: 6512 | U23: 6744 | X23: -232 | AA23: 1193 | AD23: 2784 | AG23: -1591
A24: 令和８年１月 | C24: 2690779 | F24: 1306702 | I24: 1384077 | L24: － | O24: -1781 | R24: 7409 | U24: 7594 | X24: -185 | AA24: 1290 | AD24: 2886 | AG24: -1596
A25: ２ | C25: 2688449 | F25: 1305604 | I25: 1382845 | L25: － | O25: -2330 | R25: 7649 | U25: 7742 | X25: -93 | AA25: 1442 | AD25: 3679 | AG25: -2237
A26: ３ | C26: 2686030 | F26: 1304303 | I26: 1381727 | L26: － | O26: -2419 | R26: 7854 | U26: 8416 | X26: -562 | AA26: 1157 | AD26: 3014 | AG26: -1857
A27: ４ | C27: 2679623 | F27: 1300966 | I27: 1378657 | L27: － | O27: -6407 | R27: 20783 | U27: 25346 | X27: -4563 | AA27: 1260 | AD27: 3104 | AG27: -1844
A28: ５ | C28: 2681117 | F28: 1302269 | I28: 1378848 | L28: － | O28: 1494 | R28: 17407 | U28: 14497 | X28: 2910 | AA28: 1273 | AD28: 2689 | AG28: -1416
B29: ( | C29: 71308 | D29: ) | E29: ( | F29: 38303 | G29: ) | H29: ( | I29: 33005 | J29: ) | K29: ( | L29: － | M29: ) | N29: ( | O29: 1850 | P29: ) | Q29: ( | R29: 3970 | S29: ) | T29: ( | U29: 2132 | V29: ) | W29: ( | X29: 1838 | Y29: ) | Z29: ( | AA29: 24 | AB29: ) | AC29: ( | AD29: 12 | AE29: ) | AF29: ( | AG29: 12 | AH29: )
A30: ６ | C30: 2679997 | F30: 1301987 | I30: 1378010 | L30: － | O30: -1120 | R30: 8231 | U30: 8056 | X30: 175 | AA30: 1303 | AD30: 2598 | AG30: -1295
B31: ( | C31: 71558 | D31: ) | E31: ( | F31: 38565 | G31: ) | H31: ( | I31: 32993 | J31: ) | K31: ( | L31: － | M31: ) | N31: ( | O31: 250 | P31: ) | Q31: ( | R31: 1954 | S31: ) | T31: ( | U31: 1726 | V31: ) | W31: ( | X31: 228 | Y31: ) | Z31: ( | AA31: 34 | AB31: ) | AC31: ( | AD31: 12 | AE31: ) | AF31: ( | AG31: 22 | AH31: )
A32: 前月比 | C32: -0.041773634 | F32: -0.021654512 | I32: -0.060775372 | L32: － | O32: － | R32: -52.714425 | U32: -44.429882 | X32: － | AA32: 2.3566379 | AD32: -3.3841577 | AG32: －
A33: 前年同月比 | C33: -0.73 | F33: -0.66 | I33: -0.8 | L33: － | O33: － | R33: -5.1 | U33: -7 | X33: － | AA33: 1.9 | AD33: -3.7 | AG33: －
A34: 注１） 人口・世帯数は、年別については10月１日現在、月別については当月１日現在の数値。令和２年は国勢調査結果の数値。
A35: なお、世帯数については、平成30年４月１日現在分より、年１回（10月１日現在）のみ調査。
A36: ２） 人口増減の集計期間は、年別については前年10月１日～当年９月30日、月別については前月１日～末日。
A37: ３） 令和２年の推計人口は、令和２年国勢調査結果に基づき補正を行っており、社会増減は人口増減に合わせて修正している。
A38: このため、転入から転出を引いた差と社会増減は必ずしも一致しない。
A39: ４） （ ）内は外国人で内数。

Sheet 8年6月
A2: 広島県の人口・世帯数・人口増減の推移（前年・前月との比較）
AB4: （単位：人、世帯、％）
A5: 年 月 | B5: 人口・世帯数（各年10月１日現在、各月１日現在） | R5: 人 口 増 減 （ 前１か月（年）間 ）
C6: 総数 | L6: 世 帯 数 | O6: 人口増減 | X6: 社会増減 | AG6: 自然増減
F7: 男 | I7: 女 | R7: 転 入 | U7: 転 出 | AA7: 出 生 | AD7: 死 亡
A8: 令和２年 | C8: 2799702 | F8: 1357156 | I8: 1442546 | L8: 1243527 | O8: -12155 | R8: 119072 | T8: 8498 | U8: 121688 | X8: -1646 | AA8: 20021 | AD8: 30530 | AG8: -10509
A9: ３ | C9: 2779314 | F9: 1347133 | I9: 1432181 | L9: 1245044 | O9: -20388 | R9: 112198 | T9: 8498 | U9: 120068 | X9: -7870 | AA9: 19210 | AC9: 31728 | AD9: 31728 | AG9: -12518
A10: ４ | C10: 2759702 | F10: 1337755 | I10: 1421947 | L10: 1249093 | O10: -19612 | R10: 118360 | U10: 122294 | X10: -3934 | AA10: 18277 | AD10: 33955 | AG10: -15678
A11: ５ | C11: 2739446 | F11: 1328642 | I11: 1410804 | L11: 1253831 | O11: -20256 | R11: 122043 | U11: 123827 | X11: -1784 | AA11: 17427 | AD11: 35899 | AG11: -18472
A12: ６ | C12: 2716733 | F12: 1318481 | I12: 1398252 | L12: 1258514 | O12: -22713 | R12: 119468 | U12: 122185 | X12: -2717 | AA12: 16290 | AD12: 36286 | AG12: -19996
B13: ( | C13: 62823 | D13: ) | E13: ( | F13: 32979 | G13: ) | H13: ( | I13: 29844 | J13: ) | K13: ( | L13: － | M13: ) | N13: ( | O13: 4831 | P13: ) | Q13: ( | R13: 25291 | S13: ) | T13: ( | U13: 20581 | V13: ) | W13: ( | X13: 4710 | Y13: ) | Z13: ( | AA13: 305 | AB13: ) | AC13: ( | AD13: 184 | AE13: ) | AF13: ( | AG13: 121 | AH13: )
A14: 令和７年 | C14: 2694648 | F14: 1308573 | I14: 1386075 | L14: 1262295 | O14: -22085 | R14: 119330 | U14: 120496 | X14: -1166 | AA14: 15603 | AD14: 36522 | AG14: -20919
B15: ( | C15: 68087 | D15: ) | E15: ( | F15: 36304 | G15: ) | H15: ( | I15: 31783 | J15: ) | K15: ( | L15: － | M15: ) | N15: ( | O15: 5264 | P15: ) | Q15: ( | R15: 26952 | S15: ) | T15: ( | U15: 21789 | V15: ) | W15: ( | X15: 5163 | Y15: ) | Z15: ( | AA15: 297 | AB15: ) | AC15: ( | AD15: 196 | AE15: ) | AF15: ( | AG15: 101 | AH15: )
A16: 令和７年７月 | C16: 2698428 | F16: 1310151 | I16: 1388277 | L16: － | O16: -1368 | R16: 8280 | U16: 8244 | X16: 36 | AA16: 1291 | AD16: 2695 | AG16: -1404
B17: ( | C17: 66790 | D17: ) | E17: ( | F17: 35436 | G17: ) | H17: ( | I17: 31354 | J17: ) | K17: ( | L17: － | M17: ) | N17: ( | O17: 180 | P17: ) | Q17: ( | R17: 1961 | S17: ) | T17: ( | U17: 1788 | V17: ) | W17: ( | X17: 173 | Y17: ) | Z17: ( | AA17: 24 | AB17: ) | AC17: ( | AD17: 17 | AE17: ) | AF17: ( | AG17: 7 | AH17: )
A18: ８ | C18: 2697275 | F18: 1309736 | I18: 1387539 | L18: － | O18: -1153 | R18: 8885 | U18: 8635 | X18: 250 | AA18: 1364 | AD18: 2767 | AG18: -1403
A19: ９ | C19: 2695633 | F19: 1309027 | I19: 1386606 | L19: － | O19: -1642 | R19: 7707 | U19: 8271 | X19: -564 | AA19: 1357 | AD19: 2435 | AG19: -1078
A20: 10 | C20: 2694648 | F20: 1308573 | I20: 1386075 | L20: 1262295 | O20: -985 | R20: 8531 | U20: 8048 | X20: 483 | AA20: 1388 | AD20: 2856 | AG20: -1468
A21: 11 | C21: 2694383 | F21: 1308639 | I21: 1385744 | L21: － | O21: -265 | R21: 9183 | U21: 8037 | X21: 1146 | AA21: 1398 | AD21: 2809 | AG21: -1411
A22: 12 | C22: 2692560 | F22: 1307715 | I22: 1384845 | L22: － | O22: -1823 | R22: 6512 | U22: 6744 | X22: -232 | AA22: 1193 | AD22: 2784 | AG22: -1591
A23: 令和８年１月 | C23: 2690779 | F23: 1306702 | I23: 1384077 | L23: － | O23: -1781 | R23: 7409 | U23: 7594 | X23: -185 | AA23: 1290 | AD23: 2886 | AG23: -1596
A24: ２ | C24: 2688449 | F24: 1305604 | I24: 1382845 | L24: － | O24: -2330 | R24: 7649 | U24: 7742 | X24: -93 | AA24: 1442 | AD24: 3679 | AG24: -2237
A25: ３ | C25: 2686030 | F25: 1304303 | I25: 1381727 | L25: － | O25: -2419 | R25: 7854 | U25: 8416 | X25: -562 | AA25: 1157 | AD25: 3014 | AG25: -1857
A26: ４ | C26: 2679623 | F26: 1300966 | I26: 1378657 | L26: － | O26: -6407 | R26: 20783 | U26: 25346 | X26: -4563 | AA26: 1260 | AD26: 3104 | AG26: -1844
A27: ５ | C27: 2681117 | F27: 1302269 | I27: 1378848 | L27: － | O27: 1494 | R27: 17407 | U27: 14497 | X27: 2910 | AA27: 1273 | AD27: 2689 | AG27: -1416
A28: ６ | C28: 2679997 | F28: 1301987 | I28: 1378010 | L28: － | O28: -1120 | R28: 8231 | U28: 8056 | X28: 175 | AA28: 1303 | AD28: 2598 | AG28: -1295
B29: ( | C29: 71558 | D29: ) | E29: ( | F29: 38565 | G29: ) | H29: ( | I29: 32993 | J29: ) | K29: ( | L29: － | M29: ) | N29: ( | O29: 250 | P29: ) | Q29: ( | R29: 1954 | S29: ) | T29: ( | U29: 1726 | V29: ) | W29: ( | X29: 228 | Y29: ) | Z29: ( | AA29: 34 | AB29: ) | AC29: ( | AD29: 12 | AE29: ) | AF29: ( | AG29: 22 | AH29: )
A30: ７ | C30: 2678671 | F30: 1301411 | I30: 1377260 | L30: － | O30: -1326 | R30: 8344 | U30: 8383 | X30: -39 | AA30: 1328 | AD30: 2615 | AG30: -1287
B31: ( | C31: 71550 | D31: ) | E31: ( | F31: 38606 | G31: ) | H31: ( | I31: 32944 | J31: ) | K31: ( | L31: － | M31: ) | N31: ( | O31: -8 | P31: ) | Q31: ( | R31: 1925 | S31: ) | T31: ( | U31: 1947 | V31: ) | W31: ( | X31: -22 | Y31: ) | Z31: ( | AA31: 30 | AB31: ) | AC31: ( | AD31: 16 | AE31: ) | AF31: ( | AG31: 14 | AH31: )
A32: 前月比 | C32: -0.049477667 | F32: -0.044240073 | I32: -0.05442631 | L32: － | O32: － | R32: 1.3728587 | U32: 4.0590864 | X32: － | AA32: 1.9186493 | AD32: 0.6543495 | AG32: －
A33: 前年同月比 | C33: -0.73 | F33: -0.67 | I33: -0.79 | L33: － | O33: － | R33: 0.8 | U33: 1.7 | X33: － | AA33: 2.9 | AD33: -3 | AG33: －
A34: 注１） 人口・世帯数は、年別については10月１日現在、月別については当月１日現在の数値。令和２年は国勢調査結果の数値。
A35: なお、世帯数については、平成30年４月１日現在分より、年１回（10月１日現在）のみ調査。
A36: ２） 人口増減の集計期間は、年別については前年10月１日～当年９月30日、月別については前月１日～末日。
A37: ３） 令和２年の推計人口は、令和２年国勢調査結果に基づき補正を行っており、社会増減は人口増減に合わせて修正している。
A38: このため、転入から転出を引いた差と社会増減は必ずしも一致しない。
A39: ４） （ ）内は外国人で内数。

Sheet 8年7月
A2: 広島県の人口・世帯数・人口増減の推移（前年・前月との比較）
AB4: （単位：人、世帯、％）
A5: 年 月 | B5: 人口・世帯数（各年10月１日現在、各月１日現在） | R5: 人 口 増 減 （ 前１か月（年）間 ）
C6: 総数 | L6: 世 帯 数 | O6: 人口増減 | X6: 社会増減 | AG6: 自然増減
F7: 男 | I7: 女 | R7: 転 入 | U7: 転 出 | AA7: 出 生 | AD7: 死 亡
A8: 令和２年 | C8: 2799702 | F8: 1357156 | I8: 1442546 | L8: 1243527 | O8: -12155 | R8: 119072 | T8: 8498 | U8: 121688 | X8: -1646 | AA8: 20021 | AD8: 30530 | AG8: -10509
A9: ３ | C9: 2779314 | F9: 1347133 | I9: 1432181 | L9: 1245044 | O9: -20388 | R9: 112198 | T9: 8498 | U9: 120068 | X9: -7870 | AA9: 19210 | AC9: 31728 | AD9: 31728 | AG9: -12518
A10: ４ | C10: 2759702 | F10: 1337755 | I10: 1421947 | L10: 1249093 | O10: -19612 | R10: 118360 | U10: 122294 | X10: -3934 | AA10: 18277 | AD10: 33955 | AG10: -15678
A11: ５ | C11: 2739446 | F11: 1328642 | I11: 1410804 | L11: 1253831 | O11: -20256 | R11: 122043 | U11: 123827 | X11: -1784 | AA11: 17427 | AD11: 35899 | AG11: -18472
A12: ６ | C12: 2716733 | F12: 1318481 | I12: 1398252 | L12: 1258514 | O12: -22713 | R12: 119468 | U12: 122185 | X12: -2717 | AA12: 16290 | AD12: 36286 | AG12: -19996
B13: ( | C13: 62823 | D13: ) | E13: ( | F13: 32979 | G13: ) | H13: ( | I13: 29844 | J13: ) | K13: ( | L13: － | M13: ) | N13: ( | O13: 4831 | P13: ) | Q13: ( | R13: 25291 | S13: ) | T13: ( | U13: 20581 | V13: ) | W13: ( | X13: 4710 | Y13: ) | Z13: ( | AA13: 305 | AB13: ) | AC13: ( | AD13: 184 | AE13: ) | AF13: ( | AG13: 121 | AH13: )
A14: 令和７年 | C14: 2694648 | F14: 1308573 | I14: 1386075 | L14: 1262295 | O14: -22085 | R14: 119330 | U14: 120496 | X14: -1166 | AA14: 15603 | AD14: 36522 | AG14: -20919
B15: ( | C15: 68087 | D15: ) | E15: ( | F15: 36304 | G15: ) | H15: ( | I15: 31783 | J15: ) | K15: ( | L15: － | M15: ) | N15: ( | O15: 5264 | P15: ) | Q15: ( | R15: 26952 | S15: ) | T15: ( | U15: 21789 | V15: ) | W15: ( | X15: 5163 | Y15: ) | Z15: ( | AA15: 297 | AB15: ) | AC15: ( | AD15: 196 | AE15: ) | AF15: ( | AG15: 101 | AH15: )
A16: 令和７年８月 | C16: 2697275 | F16: 1309736 | I16: 1387539 | L16: － | O16: -1153 | R16: 8885 | U16: 8635 | X16: 250 | AA16: 1364 | AD16: 2767 | AG16: -1403
B17: ( | C17: 67142 | D17: ) | E17: ( | F17: 35641 | G17: ) | H17: ( | I17: 31501 | J17: ) | K17: ( | L17: － | M17: ) | N17: ( | O17: 352 | P17: ) | Q17: ( | R17: 1998 | S17: ) | T17: ( | U17: 1651 | V17: ) | W17: ( | X17: 347 | Y17: ) | Z17: ( | AA17: 23 | AB17: ) | AC17: ( | AD17: 18 | AE17: ) | AF17: ( | AG17: 5 | AH17: )
A18: ９ | C18: 2695633 | F18: 1309027 | I18: 1386606 | L18: － | O18: -1642 | R18: 7707 | U18: 8271 | X18: -564 | AA18: 1357 | AD18: 2435 | AG18: -1078
A19: 10 | C19: 2694648 | F19: 1308573 | I19: 1386075 | L19: 1262295 | O19: -985 | R19: 8531 | U19: 8048 | X19: 483 | AA19: 1388 | AD19: 2856 | AG19: -1468
A20: 11 | C20: 2694383 | F20: 1308639 | I20: 1385744 | L20: － | O20: -265 | R20: 9183 | U20: 8037 | X20: 1146 | AA20: 1398 | AD20: 2809 | AG20: -1411
A21: 12 | C21: 2692560 | F21: 1307715 | I21: 1384845 | L21: － | O21: -1823 | R21: 6512 | U21: 6744 | X21: -232 | AA21: 1193 | AD21: 2784 | AG21: -1591
A22: 令和８年１月 | C22: 2690779 | F22: 1306702 | I22: 1384077 | L22: － | O22: -1781 | R22: 7409 | U22: 7594 | X22: -185 | AA22: 1290 | AD22: 2886 | AG22: -1596
A23: ２ | C23: 2688449 | F23: 1305604 | I23: 1382845 | L23: － | O23: -2330 | R23: 7649 | U23: 7742 | X23: -93 | AA23: 1442 | AD23: 3679 | AG23: -2237
A24: ３ | C24: 2686030 | F24: 1304303 | I24: 1381727 | L24: － | O24: -2419 | R24: 7854 | U24: 8416 | X24: -562 | AA24: 1157 | AD24: 3014 | AG24: -1857
A25: ４ | C25: 2679623 | F25: 1300966 | I25: 1378657 | L25: － | O25: -6407 | R25: 20783 | U25: 25346 | X25: -4563 | AA25: 1260 | AD25: 3104 | AG25: -1844
A26: ５ | C26: 2681117 | F26: 1302269 | I26: 1378848 | L26: － | O26: 1494 | R26: 17407 | U26: 14497 | X26: 2910 | AA26: 1273 | AD26: 2689 | AG26: -1416
A27: ６ | C27: 2679997 | F27: 1301987 | I27: 1378010 | L27: － | O27: -1120 | R27: 8231 | U27: 8056 | X27: 175 | AA27: 1303 | AD27: 2598 | AG27: -1295
A28: ７ | C28: 2678671 | F28: 1301411 | I28: 1377260 | L28: － | O28: -1326 | R28: 8344 | U28: 8383 | X28: -39 | AA28: 1328 | AD28: 2615 | AG28: -1287
B29: ( | C29: 71550 | D29: ) | E29: ( | F29: 38606 | G29: ) | H29: ( | I29: 32944 | J29: ) | K29: ( | L29: － | M29: ) | N29: ( | O29: -8 | P29: ) | Q29: ( | R29: 1925 | S29: ) | T29: ( | U29: 1947 | V29: ) | W29: ( | X29: -22 | Y29: ) | Z29: ( | AA29: 30 | AB29: ) | AC29: ( | AD29: 16 | AE29: ) | AF29: ( | AG29: 14 | AH29: )
A30: ８ | C30: 2677119 | F30: 1300587 | I30: 1376532 | L30: － | O30: -1552 | R30: 8538 | U30: 8689 | X30: -151 | AA30: 1346 | AD30: 2747 | AG30: -1401
B31: ( | C31: 71764 | D31: ) | E31: ( | F31: 38732 | G31: ) | H31: ( | I31: 33032 | J31: ) | K31: ( | L31: － | M31: ) | N31: ( | O31: 214 | P31: ) | Q31: ( | R31: 2013 | S31: ) | T31: ( | U31: 1807 | V31: ) | W31: ( | X31: 206 | Y31: ) | Z31: ( | AA31: 25 | AB31: ) | AC31: ( | AD31: 17 | AE31: ) | AF31: ( | AG31: 8 | AH31: )
A32: 前月比 | C32: -0.05793918 | F32: -0.063315893 | I32: -0.052858574 | L32: － | O32: － | R32: 2.325024 | U32: 3.6502445 | X32: － | AA32: 1.3554217 | AD32: 5.0478011 | AG32: －
A33: 前年同月比 | C33: -0.75 | F33: -0.7 | I33: -0.79 | L33: － | O33: － | R33: -3.9 | U33: 0.6 | X33: － | AA33: -1.3 | AD33: -0.7 | AG33: －
A34: 注１） 人口・世帯数は、年別については10月１日現在、月別については当月１日現在の数値。令和２年は国勢調査結果の数値。
A35: なお、世帯数については、平成30年４月１日現在分より、年１回（10月１日現在）のみ調査。
A36: ２） 人口増減の集計期間は、年別については前年10月１日～当年９月30日、月別については前月１日～末日。
A37: ３） 令和２年の推計人口は、令和２年国勢調査結果に基づき補正を行っており、社会増減は人口増減に合わせて修正している。
A38: このため、転入から転出を引いた差と社会増減は必ずしも一致しない。
A39: ４） （ ）内は外国人で内数。

Sheet 8年8月
A2: 広島県の人口・世帯数・人口増減の推移（前年・前月との比較）
AB4: （単位：人、世帯、％）
A5: 年 月 | B5: 人口・世帯数（各年10月１日現在、各月１日現在） | R5: 人 口 増 減 （ 前１か月（年）間 ）
C6: 総数 | L6: 世 帯 数 | O6: 人口増減 | X6: 社会増減 | AG6: 自然増減
F7: 男 | I7: 女 | R7: 転 入 | U7: 転 出 | AA7: 出 生 | AD7: 死 亡
A8: 令和２年 | C8: 2799702 | F8: 1357156 | I8: 1442546 | L8: 1243527 | O8: -12155 | R8: 119072 | T8: 8498 | U8: 121688 | X8: -1646 | AA8: 20021 | AD8: 30530 | AG8: -10509
A9: ３ | C9: 2779314 | F9: 1347133 | I9: 1432181 | L9: 1245044 | O9: -20388 | R9: 112198 | T9: 8498 | U9: 120068 | X9: -7870 | AA9: 19210 | AC9: 31728 | AD9: 31728 | AG9: -12518
A10: ４ | C10: 2759702 | F10: 1337755 | I10: 1421947 | L10: 1249093 | O10: -19612 | R10: 118360 | U10: 122294 | X10: -3934 | AA10: 18277 | AD10: 33955 | AG10: -15678
A11: ５ | C11: 2739446 | F11: 1328642 | I11: 1410804 | L11: 1253831 | O11: -20256 | R11: 122043 | U11: 123827 | X11: -1784 | AA11: 17427 | AD11: 35899 | AG11: -18472
A12: ６ | C12: 2716733 | F12: 1318481 | I12: 1398252 | L12: 1258514 | O12: -22713 | R12: 119468 | U12: 122185 | X12: -2717 | AA12: 16290 | AD12: 36286 | AG12: -19996
B13: ( | C13: 62823 | D13: ) | E13: ( | F13: 32979 | G13: ) | H13: ( | I13: 29844 | J13: ) | K13: ( | L13: － | M13: ) | N13: ( | O13: 4831 | P13: ) | Q13: ( | R13: 25291 | S13: ) | T13: ( | U13: 20581 | V13: ) | W13: ( | X13: 4710 | Y13: ) | Z13: ( | AA13: 305 | AB13: ) | AC13: ( | AD13: 184 | AE13: ) | AF13: ( | AG13: 121 | AH13: )
A14: 令和７年 | C14: 2694648 | F14: 1308573 | I14: 1386075 | L14: 1262295 | O14: -22085 | R14: 119330 | U14: 120496 | X14: -1166 | AA14: 15603 | AD14: 36522 | AG14: -20919
B15: ( | C15: 68087 | D15: ) | E15: ( | F15: 36304 | G15: ) | H15: ( | I15: 31783 | J15: ) | K15: ( | L15: － | M15: ) | N15: ( | O15: 5264 | P15: ) | Q15: ( | R15: 26952 | S15: ) | T15: ( | U15: 21789 | V15: ) | W15: ( | X15: 5163 | Y15: ) | Z15: ( | AA15: 297 | AB15: ) | AC15: ( | AD15: 196 | AE15: ) | AF15: ( | AG15: 101 | AH15: )
A16: 令和７年９月 | C16: 2695633 | F16: 1309027 | I16: 1386606 | L16: － | O16: -1642 | R16: 7707 | U16: 8271 | X16: -564 | AA16: 1357 | AD16: 2435 | AG16: -1078
B17: ( | C17: 67186 | D17: ) | E17: ( | F17: 35766 | G17: ) | H17: ( | I17: 31420 | J17: ) | K17: ( | L17: － | M17: ) | N17: ( | O17: 44 | P17: ) | Q17: ( | R17: 1770 | S17: ) | T17: ( | U17: 1743 | V17: ) | W17: ( | X17: 27 | Y17: ) | Z17: ( | AA17: 25 | AB17: ) | AC17: ( | AD17: 8 | AE17: ) | AF17: ( | AG17: 17 | AH17: )
A18: 10 | C18: 2694648 | F18: 1308573 | I18: 1386075 | L18: 1262295 | O18: -985 | R18: 8531 | U18: 8048 | X18: 483 | AA18: 1388 | AD18: 2856 | AG18: -1468
A19: 11 | C19: 2694383 | F19: 1308639 | I19: 1385744 | L19: － | O19: -265 | R19: 9183 | U19: 8037 | X19: 1146 | AA19: 1398 | AD19: 2809 | AG19: -1411
A20: 12 | C20: 2692560 | F20: 1307715 | I20: 1384845 | L20: － | O20: -1823 | R20: 6512 | U20: 6744 | X20: -232 | AA20: 1193 | AD20: 2784 | AG20: -1591
A21: 令和８年１月 | C21: 2690779 | F21: 1306702 | I21: 1384077 | L21: － | O21: -1781 | R21: 7409 | U21: 7594 | X21: -185 | AA21: 1290 | AD21: 2886 | AG21: -1596
A22: ２ | C22: 2688449 | F22: 1305604 | I22: 1382845 | L22: － | O22: -2330 | R22: 7649 | U22: 7742 | X22: -93 | AA22: 1442 | AD22: 3679 | AG22: -2237
A23: ３ | C23: 2686030 | F23: 1304303 | I23: 1381727 | L23: － | O23: -2419 | R23: 7854 | U23: 8416 | X23: -562 | AA23: 1157 | AD23: 3014 | AG23: -1857
A24: ４ | C24: 2679623 | F24: 1300966 | I24: 1378657 | L24: － | O24: -6407 | R24: 20783 | U24: 25346 | X24: -4563 | AA24: 1260 | AD24: 3104 | AG24: -1844
A25: ５ | C25: 2681117 | F25: 1302269 | I25: 1378848 | L25: － | O25: 1494 | R25: 17407 | U25: 14497 | X25: 2910 | AA25: 1273 | AD25: 2689 | AG25: -1416
A26: ６ | C26: 2679997 | F26: 1301987 | I26: 1378010 | L26: － | O26: -1120 | R26: 8231 | U26: 8056 | X26: 175 | AA26: 1303 | AD26: 2598 | AG26: -1295
A27: ７ | C27: 2678671 | F27: 1301411 | I27: 1377260 | L27: － | O27: -1326 | R27: 8344 | U27: 8383 | X27: -39 | AA27: 1328 | AD27: 2615 | AG27: -1287
A28: ８ | C28: 2677119 | F28: 1300587 | I28: 1376532 | L28: － | O28: -1552 | R28: 8538 | U28: 8689 | X28: -151 | AA28: 1346 | AD28: 2747 | AG28: -1401
B29: ( | C29: 71764 | D29: ) | E29: ( | F29: 38732 | G29: ) | H29: ( | I29: 33032 | J29: ) | K29: ( | L29: － | M29: ) | N29: ( | O29: 214 | P29: ) | Q29: ( | R29: 2013 | S29: ) | T29: ( | U29: 1807 | V29: ) | W29: ( | X29: 206 | Y29: ) | Z29: ( | AA29: 25 | AB29: ) | AC29: ( | AD29: 17 | AE29: ) | AF29: ( | AG29: 8 | AH29: )
A30: ９ | C30: =[1]総数本年!C6 -> 2675196 | F30: =[1]総数本年!D6 -> 1299689 | I30: =[1]総数本年!E6 -> 1375507 | L30: － | O30: =[1]総数本年!G6 -> -1923 | R30: =[1]総数本年!H6 -> 7936 | U30: =[1]総数本年!I6 -> 8438 | X30: =[1]総数本年!J6 -> -502 | AA30: =[1]総数本年!K6 -> 1291 | AD30: =[1]総数本年!L6 -> 2712 | AG30: =[1]総数本年!M6 -> -1421
B31: ( | C31: =[1]外国人本年!C6 -> 71635 | D31: ) | E31: ( | F31: =[1]外国人本年!D6 -> 38659 | G31: ) | H31: ( | I31: =[1]外国人本年!E6 -> 32976 | J31: ) | K31: ( | L31: － | M31: ) | N31: ( | O31: =[1]外国人本年!G6 -> -129 | P31: ) | Q31: ( | R31: =[1]外国人本年!H6 -> 1941 | S31: ) | T31: ( | U31: =[1]外国人本年!I6 -> 2082 | V31: ) | W31: ( | X31: =[1]外国人本年!J6 -> -141 | Y31: ) | Z31: ( | AA31: =[1]外国人本年!K6 -> 29 | AB31: ) | AC31: ( | AD31: =[1]外国人本年!L6 -> 17 | AE31: ) | AF31: ( | AG31: =[1]外国人本年!M6 -> 12 | AH31: )
A32: 前月比 | C32: =ROUND((C30/C28-1)*100,15) -> -0.07183095 | F32: =ROUND((F30/F28-1)*100,15) -> -0.069045746 | I32: =ROUND((I30/I28-1)*100,15) -> -0.07446249 | L32: － | O32: － | R32: =ROUND((R30/R28-1)*100,15) -> -7.0508316 | U32: =ROUND((U30/U28-1)*100,15) -> -2.8887099 | X32: － | AA32: =ROUND((AA30/AA28-1)*100,15) -> -4.0861813 | AD32: =ROUND((AD30/AD28-1)*100,15) -> -1.2741172 | AG32: －
A33: 前年同月比 | C33: =ROUND(C30/C16*100-100,2) -> -0.76 | F33: =ROUND(F30/F16*100-100,2) -> -0.71 | I33: =ROUND(I30/I16*100-100,2) -> -0.8 | L33: － | O33: － | R33: =ROUND(R30/R16*100-100,1) -> 3 | U33: =ROUND(U30/U16*100-100,1) -> 2 | X33: － | AA33: =ROUND(AA30/AA16*100-100,1) -> -4.9 | AD33: =ROUND(AD30/AD16*100-100,1) -> 11.4 | AG33: －
A34: 注１） 人口・世帯数は、年別については10月１日現在、月別については当月１日現在の数値。令和２年は国勢調査結果の数値。
A35: なお、世帯数については、平成30年４月１日現在分より、年１回（10月１日現在）のみ調査。
A36: ２） 人口増減の集計期間は、年別については前年10月１日～当年９月30日、月別については前月１日～末日。
A37: ３） 令和２年の推計人口は、令和２年国勢調査結果に基づき補正を行っており、社会増減は人口増減に合わせて修正している。
A38: このため、転入から転出を引いた差と社会増減は必ずしも一致しない。
A39: ４） （ ）内は外国人で内数。
